Workbook
Name OLE_LINK1: ' Prilog 3a'!#REF!

Sheet  Prilog 1
C1: Prilog 1
A2: OPĆI PODACI O INVESTICIJSKOM FONDU na dan 30.06.2026.g.
A4: Opis | B4: Sadržaj | C4: Napomena
A5: 1.Informacije o identitetu Fonda
A6: punu i skraćenu firmu, adresu sjedišta: | B6: Zatvoreni investicioni fond sa javnom ponudom "FORTUNA FOND" d.d., ZIF "FORTUNA FOND" d.d., Dženetića čikma 8 , 71000 Sarajevo,BIH
A7: broj telefona i telefaksa: | B7: +387 33 953 480
A8: e-mail adresu: | B8: fortunafond@lilium-dzu.ba
A9: web: | B9: www.lilium-dzu.ba
A10: registarski broj Fonda u registru kod Komisije: | B10: ZJP-031-03
A11: ime i prezime direktora Fonda; | B11: Hamdija Velagić
A12: mandatni period direktora Fonda: | B12: 2020-2024
A13: ime i prezime predsjednika i članova nadzornog odbora Fonda; | B13: Sergej Goriup, predsjednik Iris Nezirević, član Armin Alijagić, član do 31.03.2026. Zijad Šušić, član od 23.06.2026.
A14: mandatni period članova nadzornog odbora Fonda: | B14: 2026-2030
A15: ime i prezime članova odbora za reviziju; | B15: Jasminka Gajić, predsjednik Suad Rošić, član Mirjana Damjanović, član do 31.03.2026. Milan Blagojević, član od 23.06.2026.
A16: mandatni period čalnova odbora za reviziju Fonda: | B16: 2026-2030
A17: firmu i sjedište ovlaštenog revizora: | B17: Zuko doo Sarajevo, Sarajevo
... A19: firmu i adresu sjedište depozirata Fonda. | B19: ASA banka d.d. Sarajevo, Trg međunarodnog prijateljstva br. 25, 71000, Sarajevo
A20: 2. Informacije o Društvu koje upravlja Fondom:
A21: punu i skraćenu firmu, adresu sjedišta: | B21: LILIUM ASSET MANAGEMENT Društvo za upravljanje investicijskim fondovima d.o.o. Sarajevo, Dženetića čikma 8, 71000 Sarajevo
A22: broj telefona i telefaksa: | B22: +387 33 953 480
A23: e-mail adresu: | B23: info@lilium-dzu.ba
A24: web: | B24: www.lilium-dzu.ba
A25: broj i datum Rješenja Kojim je izdata dozvola za osnivanje Društva | B25: Rješenje br. 05/1-19-159/08 od 17.04.2008.
A26: broj i datum Rješenja Kojim je izdata dozvola Društvu za upravljanje Fondom: | B26: Rješenje br. 05/2-19-210/18 od 14.06.2019.
A27: imena i prezimena članova uprave Društva: | B27: Nedim Vilogorac, Adnan Mujezinović
A28: mandatni period članova uprave Društva: | B28: 24.11.2025. godine - 23.11.2029. godine
A29: imena i prezimena predsjednika i članova nadzornog odbora Društva; | B29: Azra Babović, predsjednica Aldina Avdić, član Damir Smajić, član
A30: mandatni period članova Nadzornog odobora Društva za upravljanje | B30: 18.04.2025. godine - 17.04.2029. godine
A31: imena i prezimena članova odbora za reviziju; | B31: Ljiljana Kamberović, Almir Hodžić, Andrea Zećo
A32: mandatni period članova odbora za reviziju Društva za upravljanje: | B32: 21.12.2025. godine - 20.12.2029. godine
... A35: firmu i adresu sjedište depozitara Fonda. | B35: ASA banka d.d. Sarajevo, Trg međunarodnog prijateljstva br. 25, 71000, Sarajevo
A38: Datum izvještaja: 30.06.2026.g.
A39: Ime i prezime osobe koja je sačinila izvještaj: | C39: Ime i prezime odgovornog lica društva za upravljanje
A40: Elvira Žilić dipl.ecc | C40: Nedim Vilogorac dipl. oec.

Sheet Prilog 2
B1: Naziv fonda : | D1: ZIF "FORTUNA FOND" d.d. | O1: Prilog 2
B2: Registarski broj fonda : | D2: ZJP-031-03
B3: Naziv društva za upravljanje: | D3: LILIUM ASSET MANAGEMENT d.o.o. Sarajevo
B4: Matični broj društva za upravljanje: | D4: 65-01-0233-08 | M4: NVI | N4: 11991504
B5: JIB društva za upravljanje: | D5: 4201337670008
B6: JIB investicionog fonda: | D6: 4263012890007
A7: IZVJEŠTAJ O UTVRĐIVANJU VRIJEDNOSTI IMOVINE IZ PORTFOLIJA INVESTICIJSKOG FONDA na dan 30.06.2026.g.
A10: Rb | B10: Naziv emitenta | C10: Oznaka papira | D10: Ukupan broj emitovanih vp/udjela | E10: Broj vp/udjela u vlasništvu Fonda | F10: % vlasništva fonda | G10: Nabavna cijena vp/udjela | H10: Fer cijena vp/udjela | I10: Ukupna vrijednost ulaganja | J10: % od NVI fonda | K10: Način vrednovanja | L10: % prekoračenja u investiranju | M10: Vrijednost prekoračenja | N10: Datum nastanka prekoračenja | O10: Rok za usaglašavanje
A11: 1 | B11: 2 | C11: 3 | D11: 4 | E11: 5 | F11: 6 (5/4*100) | G11: 7 | H11: 8 | I11: 9 (5*8) | J11: 10 | K11: 11 | L11: 12 | M11: 13 | N11: 14 | O11: 15
A12: ULAGANJA U INSTRUMENTE KAPITALA
A13: Ulaganje u dionice domaćih emitenata (osim u dionice investicijskih fondova)
A14: 1 | B14: BH TELECOM D.D. SARAJEVO | C14: BHTSR | D14: 63457358 | E14: 125643 | F14: =+(E14/D14) -> 0.0019799595 | G14: 69.930351 | H14: 14.6335 | I14: =+H14*E14 -> 1838596.8 | J14: =+(I14/$N$4) -> 0.15332496 | K14: Tržišna cijena | L14: =+J14-15% -> 0.0033249553 | M14: 39871.215 | N14: 08.06.2026. | O14: 08.06.2027.
A15: 2 | B15: BIHAĆKA PIVOVARA D.D. BIHAĆ | C15: BIPVR | D15: 2422303 | E15: 58730 | F15: =+(E15/D15) -> 0.024245522 | G15: 46.600424 | H15: 4.07 | I15: =+H15*E15 -> 239031.1 | J15: =+(I15/$N$4) -> 0.019933371 | K15: Procjena
A16: 3 | B16: BIRA D.D. BIHAĆ | C16: BIRBRK4 | D16: 1941077 | E16: 82516 | F16: =+(E16/D16) -> 0.042510421 | G16: 26.661496 | H16: 0.074 | I16: =+H16*E16 -> 6106.184 | J16: =+(I16/$N$4) -> 0.00050920918 | K16: Procjena
A17: 4 | B17: ENERGOINVEST D.D. SARAJEVO | C17: ENISR | D17: 17657682 | E17: 110000 | F17: =+(E17/D17) -> 0.0062295832 | G17: 26.863378 | H17: 2.79 | I17: =+H17*E17 -> 306900 | J17: =+(I17/$N$4) -> 0.02559312 | K17: Procjena
A18: 5 | B18: INGRAM D.D. SREBRENIK | C18: INGRK2 | D18: 1395690 | E18: 3000 | F18: =+(E18/D18) -> 0.0021494745 | G18: 13.2 | H18: 16.07 | I18: =+H18*E18 -> 48210 | J18: =+(I18/$N$4) -> 0.0040203463 | K18: Procjena
A19: 6 | B19: IP SVJETLOST D.D. SARAJEVO | C19: SVIPR | D19: 890633 | E19: 22240 | F19: =+(E19/D19) -> 0.024971004 | G19: 12.268548 | H19: 0.3 | I19: =+H19*E19 -> 6672 | J19: =+(I19/$N$4) -> 0.00055639392 | K19: Procjena
A20: 7 | B20: JP ELEKTROPRIVREDA BIH D.D. SARAJEVO | C20: JPESR | D20: 31506541 | E20: 74929 | F20: =+(E20/D20) -> 0.0023782046 | G20: 107.4519 | H20: 9.5855 | I20: =+H20*E20 -> 718231.93 | J20: =+(I20/$N$4) -> 0.059895066 | K20: Tržišna cijena
A21: 8 | B21: JP HT D.D. MOSTAR | C21: HTKMR | D21: 31586325 | E21: 284520 | F21: =+(E21/D21) -> 0.0090076956 | G21: 54.708621 | H21: 3.75 | I21: =+H21*E21 -> 1066950 | J21: =+(I21/$N$4) -> 0.088975493 | K21: Procjena
A22: 9 | B22: SVJETLOSTKOMERC DD SARAJEVO | C22: SVKORA | D22: 16926 | E22: 150 | F22: =+(E22/D22) -> 0.0088621056 | G22: 463.38433 | H22: 422.97 | I22: =+H22*E22 -> 63445.5 | J22: =+(I22/$N$4) -> 0.0052908709 | K22: Procjena
A23: 10 | B23: BOKSIT A.D. MILIĆI | C23: BOKS-R-A | D23: 23787671 | E23: 26071 | F23: =+(E23/D23) -> 0.0010959879 | G23: 0.653 | H23: 0.44 | I23: =+H23*E23 -> 11471.24 | J23: =+(I23/$N$4) -> 0.00095661394 | K23: Procjena
A24: 11 | B24: ČAJEVAC MEGA AD BANJALUKA | C24: CMEG-R-A | D24: 11104166 | E24: =704490-384330 -> 320160 | F24: =+(E24/D24) -> 0.028832422 | G24: 0.55960946 | H24: 0.342 | I24: =+H24*E24 -> 109494.72 | J24: =+(I24/$N$4) -> 0.0091310246 | K24: Procjena
A25: 12 | B25: HIDROELEKTRANE NA DRINI A.D. VIŠEGRAD | C25: HEDR-R-A | D25: 441955312 | E25: 1153506 | F25: =+(E25/D25) -> 0.002610006 | G25: 0.37560037 | H25: 0.28 | I25: =+H25*E25 -> 322981.68 | J25: =+(I25/$N$4) -> 0.026934209 | K25: Procjena
A26: 13 | B26: HIDROELEKTRANE NA TREBIŠNJICI A.D. TREBINJE | C26: HETR-R-A | D26: 567159202 | E26: 61039 | F26: =+(E26/D26) -> 0.00010762234 | G26: 1.9737091 | H26: 0.45 | I26: =+H26*E26 -> 27467.55 | J26: =+(I26/$N$4) -> 0.0022905842 | K26: Procjena
A27: 14 | B27: VODOVOD A.D. BANJA LUKA | C27: VDBL-R-A | D27: 35655181 | E27: 710000 | F27: =+(E27/D27) -> 0.019912955 | G27: 0.67 | H27: 0.1 | I27: =+H27*E27 -> 71000 | J27: =+(I27/$N$4) -> 0.0059208586 | K27: Procjena
A28: 15 | B28: INDUSTRIJSKE PLANTAŽE A.D. BANJA LUKA | C28: IPBL-K-A | D28: 108393599 | E28: =17836-336 -> 17500 | F28: =+(E28/D28) -> 0.00016144865 | G28: 0.06 | H28: 0.01 | I28: =+H28*E28 -> 175 | J28: =+(I28/$N$4) -> 1.4593665e-05 | K28: Procjena
A29: 16 | B29: MH ERS - MP AD TREBINJE - ZEDP ELEKTRO-BIJELJINA AD BIJELJINA | C29: ELBJ-R-A | D29: 38486953 | E29: 3792 | F29: =+(E29/D29) -> 9.8526896e-05 | G29: 0.2 | H29: 0.26 | I29: =+H29*E29 -> 985.92 | J29: =+(I29/$N$4) -> 8.2218209e-05 | K29: Procjena
A30: 17 | B30: MJEŠOVITI HOLDING ERS-MP AD TREBINJE-ZP HIDROELEKTRANE NA VRBASU AD MRKONJIC GRA | C30: HELV-R-A | D30: 102354487 | E30: 4912 | F30: =+(E30/D30) -> 4.799008e-05 | G30: 0.315 | H30: 0.17 | I30: =+H30*E30 -> 835.04 | J30: =+(I30/$N$4) -> 6.9635968e-05 | K30: Procjena
A31: 18 | B31: MJEŠOVITI HOLDING ERS, MP AD TREBINJE-ZP RITE GACKO AD GACKO | C31: RITE-R-A | D31: 379959879 | E31: 4460 | F31: =+(E31/D31) -> 1.1738081e-05 | G31: 0.031 | H31: 0.02 | I31: =+H31*E31 -> 89.2 | J31: =+(I31/$N$4) -> 7.4385998e-06 | K31: Procjena
A32: 19 | B32: TELEKOM SRPSKE AD BANJA LUKA | C32: TLKM-R-A | D32: 491383755 | E32: 40398 | F32: =+(E32/D32) -> 8.221273e-05 | G32: 1.62 | H32: 1.0286 | I32: =+H32*E32 -> 41553.383 | J32: =+(I32/$N$4) -> 0.0034652352 | K32: Tržišna cijena
A33: Ukupna ulaganja u dionice domaćih emitenata (osim u dionice investicijskih fondova) | G33: =+E14*G14+E15*G15+E16*G16+E17*G17+E18*G18+E19*G19+E20*G20+E21*G21+E22*G22+E23*G23+E24*G24+E25*G25+E26*G26+E27*G27+E28*G28+E29*G29+E30*G30+E31*G31+E32*G32 -> 41971552 | I33: =+SUM(I14:I32) -> 4880197.3 | M33: =+SUM(M14:M32) -> 39871.215
A34: Ulaganje u dionice domaćih investicijskih fondova
A35: 1 | B35: ZIF EUROFOND-1 D.D. TUZLA | C35: EFNFRK1 | D35: 3610331 | E35: 11041 | F35: =+(E35/D35) -> 0.0030581684 | G35: 1.9857803 | H35: 0.34 | I35: =+H35*E35 -> 3753.94 | J35: =+(I35/$N$4) -> 0.00031304997 | K35: Procjena
A36: 2 | B36: ZIF MI GROUP D.D. SARAJEVO | C36: MIGFRK2 | D36: 4926930 | E36: 150772 | F36: =+(E36/D36) -> 0.030601612 | G36: 4.1536757 | H36: 0.73 | I36: =+H36*E36 -> 110063.56 | J36: =+(I36/$N$4) -> 0.0091784616 | K36: Procjena
A37: Ukupna ulaganja u dionice domaćih investicijskih fondova | G37: =+E35*G35+E36*G36 -> 648183 | I37: =+SUM(I35:I36) -> 113817.5 | M37: =+SUM(M35:M36) -> 0
A38: Ukupna ulaganja u dionice domaćih emitenata
A39: Ulaganje u dionice inostranih emitenata (osim dionica investicijskih fondova)
A42: Ukupno
A43: Ulaganje u dionice inostranih investicijskih fondova
A46: Ukupno ulaganje u dionice inostranih investicijskih fondova
A47: Ukupna ulaganja u dionice inostranih emitenata
A48: UKUPNA ULAGANJA U INSTRUMENTE KAPITALA | G48: =+G37+G33 -> 42619735 | I48: =+I37+I33-0.01 -> 4994014.8 | M48: =+M37+M33 -> 39871.215
A49: Rb | B49: Naziv emitenta | C49: Oznaka papira | D49: Ukupan broj emitovanih vp/udjela | E49: Broj vp/udjela u vlasništvu Fonda | F49: % vlasništva fonda | G49: Nabavna cijena vp/udjela | H49: Fer cijena vp/udjela | I49: Ukupna vrijednost ulaganja | J49: % od NVI fonda | K49: Način vrednovanja | L49: % prekoračenja u investiranju | M49: Vrijednost prekoračenja | N49: Datum nastanka prekoračenja | O49: Rok za usaglašavanje
A50: 1 | B50: 2 | C50: 3 | D50: 4 | E50: 5 | F50: 6 (5/4*100) | G50: 7 | H50: 8 | I50: 9 (5*8) | J50: 10 | K50: 11 | L50: 12 | M50: 13 | N50: 14 | O50: 15
A51: ULAGANJA U DUŽNIČKE INSTRUMENTE
A52: Ulaganje u obveznice domaćih emitenata
A53: 1 | B53: REPUBLIKA SRPSKA - MINISTARSTVO FINANSIJA - RATNA ŠTETA 9 | C53: RSRS-O-I | D53: 32185097 | E53: 16953 | F53: =+(E53/D53) -> 0.00052673447 | G53: 0.495 | H53: 0.195 | I53: =+H53*E53 -> 3305.835 | J53: =+(I53/$N$4) -> 0.00027568143 | K53: Tržišna cijena
A54: 2 | B54: REPUBLIKA SRPSKA - MINISTARSTVO FINANSIJA - RATNA ŠTETA 10 | C54: RSRS-O-J | D54: 23795791 | E54: 2355 | F54: =+(E54/D54) -> 9.8967082e-05 | G54: 0.588 | H54: 0.288 | I54: =+H54*E54 -> 678.24 | J54: =+(I54/$N$4) -> 5.6560044e-05 | K54: Tržišna cijena
A55: 3 | B55: REPUBLIKA SRPSKA - MINISTARSTVO FINANSIJA - RATNA ŠTETA 12 | C55: RSRS-O-L | D55: 26092803 | E55: 21455 | F55: =+(E55/D55) -> 0.00082225739 | G55: 0.8757 | H55: 0.4757 | I55: =+H55*E55 -> 10206.144 | J55: =+(I55/$N$4) -> 0.00085111454 | K55: Tržišna cijena
A56: Ukupna ulaganja u obveznice domaćih emitenata | G56: =+E53*G53+E54*G54+E55*G55 -> 28564.619 | I56: =+SUM(I53:I55) -> 14190.218 | M56: =+SUM(M53:M55) -> 0
A57: Ostala ulaganja u dužničke instrumente domaćih emitenata
A60: Ukupna ostala ulaganja u dužničke instrumente domaćih emitenata
A61: Ukupna ulaganja u dužničke instrumente domaćih emitenata
A62: Ulaganja u obveznice inostranih emitenata
A65: Ukupna ulaganja u obveznice inostranih emitenata
A66: Ostala ulaganja u dužničke instrumente inostranih emitenata
A69: Ukupna ostala ulaganja u dužničke instrumente inostranih emitenata
A70: Ukupna ulaganja u dužničke instrumente inostranih emitenata
A71: UKUPNA ULAGANJA U DUŽNIČKE INSTRUMENTE
A72: Rb | B72: Naziv emitenta | C72: Oznaka papira | D72: Ukupan broj emitovanih vp/udjela | E72: Broj vp/udjela u vlasništvu Fonda | F72: % vlasništva fonda | G72: Nabavna cijena vp/udjela | H72: Fer cijena vp/udjela | I72: Ukupna vrijednost ulaganja | J72: % od NVI fonda | K72: Način vrednovanja | L72: % prekoračenja u investiranju | M72: Vrijednost prekoračenja | N72: Datum nastanka prekoračenja | O72: Rok za usaglašavanje
A73: 1 | B73: 2 | C73: 3 | D73: 4 | E73: 5 | F73: 6 (5/4*100) | G73: 7 | H73: 8 | I73: 9 (5*8) | J73: 10 | K73: 11 | L73: 12 | M73: 13 | N73: 14 | O73: 15
A74: ULAGANJA U UDJELE INVESTICIJSKIH FONDOVA
A75: Ulaganja u udjele domaćih investicijskih fondova
A78: Ukupna ulaganja u udjele domaćih investicijskih fondova
A79: Ulaganja u udjele inostranih investicijskih fondova
A80: 1 | B80: OIF MONETA Podgorica | C80: - | D80: 57729651 | E80: 9467572 | F80: =+(E80/D80) -> 0.16399843 | G80: 0.10034252 | H80: 0.0882 | I80: =+H80*E80 -> 835039.85 | J80: =+(I80/$N$4) -> 0.069635955 | K80: NVI - Procjena na osnovu cijene objavljene od strane DUIF
A81: Ukupna ulaganja u udjele inostranih investicijskih fondova | G81: =+(E80*G80) -> 950000 | I81: =+SUM(I80:I80) -> 835039.85 | M81: =+SUM(M80:M80) -> 0
A82: UKUPNA ULAGANJA U UDJELE INVESTICIJSKIH FONDOVA
A83: Rb | B83: Naziv emitenta | C83: Oznaka papira | D83: Ukupan broj emitovanih vp/udjela | E83: Broj vp/udjela u vlasništvu Fonda | F83: % vlasništva fonda | G83: Nabavna cijena vp/udjela | H83: Fer cijena vp/udjela | I83: Ukupna vrijednost ulaganja | J83: % od NVI fonda | K83: Način vrednovanja | L83: % prekoračenja u investiranju | M83: Vrijednost prekoračenja | N83: Datum nastanka prekoračenja | O83: Rok za usaglašavanje
A84: 1 | B84: 2 | C84: 3 | D84: 4 | E84: 5 | F84: 6 (5/4*100) | G84: 7 | H84: 8 | I84: 9 (5*8) | J84: 10 | K84: 11 | L84: 12 | M84: 13 | N84: 14 | O84: 15
A85: ULAGANJA U FINANSIJSKE DERIVATE
A86: Ulaganje u finansijske derivate domaćih emitenata
A89: Ukupna ulaganja u finansijske derivate domaćih emitenata
A90: Ulaganje u finansijske derivate inostranih emitenata
A93: Ukupna ulaganja u finansijske derivate inostranih emitenata
A94: UKUPNA ULAGANJA U FINANSIJSKE DERIVATE
A95: Rb | B95: Naziv emitenta | C95: Oznaka papira | D95: Ukupan broj emitovanih vp/udjela | E95: Broj vp/udjela u vlasništvu Fonda | F95: % vlasništva fonda | G95: Nabavna cijena vp/udjela | H95: Fer cijena vp/udjela | I95: Ukupna vrijednost ulaganja | J95: % od NVI fonda | K95: Način vrednovanja | L95: % prekoračenja u investiranju | M95: Vrijednost prekoračenja | N95: Datum nastanka prekoračenja | O95: Rok za usaglašavanje
A96: 1 | B96: 2 | C96: 3 | D96: 4 | E96: 5 | F96: 6 (5/4*100) | G96: 7 | H96: 8 | I96: 9 (5*8) | J96: 10 | K96: 11 | L96: 12 | M96: 13 | N96: 14 | O96: 15
A97: OSTALA ULAGANJA
A98: Ulaganje u ostale dozvoljene oblike finansijske imovine u zemlji
A101: Ukupna ulaganja u ostale oblike finansijske imovine u zemlji
A102: Ulaganja u ostale dozvoljene oblike finansijske imovine u inostranstvu
A105: UKUPNA OSTALA ULAGANJA
A106: Rb | B106: Naziv emitenta | C106: Oznaka papira | D106: Ukupan broj emitovanih vp/udjela | E106: Broj vp/udjela u vlasništvu Fonda | F106: % vlasništva fonda | G106: Nabavna cijena vp/udjela | H106: Fer cijena vp/udjela | I106: Ukupna vrijednost ulaganja | J106: Vrijednost prekoračenja | K106: Način vrednovanja | L106: % prekoračenja u investiranju | M106: Vrijednost prekoračenja | N106: Datum nastanka prekoračenja | O106: Rok za usaglašavanje
A107: 1 | B107: 2 | C107: 3 | D107: 4 | E107: 5 | F107: 6 (5/4*100) | G107: 7 | H107: 8 | I107: 9 (5*8) | J107: 10 | K107: 11 | L107: 12 | M107: 13 | N107: 14 | O107: 15
A108: ULAGANJA U DEPOZITE
A109: Ulaganje u depozite kod domaćih banaka
A110: 1 | B110: ASA banka dd Sarajevo | C110: - | D110: - | E110: - | F110: - | G110: 2000000 | H110: - | I110: 2000000 | J110: =+(I110/$N$4) -> 0.16678475 | K110: FI po amortizacionom trošku
A111: 2 | B111: Addiko banka dd Sarajevo | C111: - | D111: - | E111: - | F111: - | G111: 1500000 | H111: - | I111: 1500000 | J111: =+(I111/$N$4) -> 0.12508856 | K111: FI po amortizacionom trošku
A112: 3 | B112: Union banka dd Sarajevo | C112: - | D112: - | E112: - | F112: - | G112: 1500000 | H112: - | I112: 1500000 | J112: =+(I112/$N$4) -> 0.12508856 | K112: FI po amortizacionom trošku
G113: =+SUM(G110:G112) -> 5000000 | I113: =+SUM(I110:I112) -> 5000000
A114: Ukupna ulaganja u depozite kod domaćih banaka
A115: Ulaganje u depozite kod inostranih banaka
A118: Ukupna ulaganja u depozite kod inostranih banaka
A119: UKUPNA ULAGANJA U DEPOZITE
A120: Rb | B120: Vrsta nekretnine | C120: Vrijednost ulaganja | D120: Površina m2 | E120: Cijena po m2 | F120: Fer vrijednost nekretnine | G120: % od NVI fonda | H120: Način vrednovanja | I120: % prekoračenja u investiranju | J120: Vrijednost prekoračenja | K120: Datum nastanka prekoračenja | L120: Rok za usaglašavanje
A121: 1 | B121: 2 | C121: 3 | D121: 4 | E121: 5 | F121: 6 | G121: 7 | H121: 8 | I121: 9 | J121: 10
A122: ULAGANJE U NEKRETNINE
A123: Ulaganje u nekretnine radi izdavanja u najam
A126: Ukupna ulaganja u nekretnine radi davanja u najam
...

Sheet Prilog 3
A1: Naziv fonda : | D1: ZIF "FORTUNA FOND" d.d.
A2: Registarski broj fonda : | D2: ZJP-031-03 | R2: Prilog 3
A3: Naziv društva za upravljanje: | D3: LILIUM ASSET MANAGEMENT d.o.o. Sarajevo
A4: Matični broj društva za upravljanje:
A5: JIB društva za upravljanje: | D5: 4201337670008
A6: JIB investicionog fonda: | D6: 4263012890007
A8: IZVJEŠTAJ O OBRAČUNU NETO VRIJEDNOSTI IMOVINE INVESTICIJSKOG FONDA ZA PERIOD 01.01.-30.06.2026.g.
A9: Datum | B9: IMOVINA FONDA | G9: OBAVEZE FONDA | L9: Ukupna vrijednost imovine | M9: Iznos umanjenja neto vrijednosti imovine zbog prekoračenja i neusklađenosti ulaganja | N9: Neto vrijednost imovine i obračun naknade za upravljanje | O9: % naknade za upravljanje | P9: Iznos naknade za upravljanje | Q9: Broj dionica/udjela fonda | R9: NVI po dionici/udjelu fonda
B10: Gotovina i gotovinski ekvivalenti | C10: Ulaganja | D10: Potraživanja | E10: Ostalo | F10: UKUPNO | G10: Obaveze po osnovu ulaganja | H10: Obaveze po osnovu troškova poslovanja | I10: Obaveze prema DUF-u | J10: Ostalo | K10: UKUPNO
A11: 1 | B11: 2 | C11: 3 | D11: 4 | E11: 5 | F11: 6 (2+3+4+5) | G11: 7 | H11: 8 | I11: 9 | J11: 10 | K11: 11 (7+8+9+10) | L11: 12 (6-11) | M11: 13 | N11: 14 (12-13) | O11: 15 | P11: 16 (14*15/365) | Q11: 17 | R11: 18 (12/17)
A12: januar | B12: 1240282 | C12: 11144096 | D12: 28785.115 | E12: 0 | F12: 12413163 | G12: 0 | H12: 10307.825 | I12: 4320.1187 | J12: 0 | K12: 14627.944 | L12: 12398535 | M12: 12415.91 | N12: 12386119 | O12: 0.016 | P12: 16831.54 | Q12: 2235737 | R12: 5.5456144
A13: februar | B13: 1254846.8 | C13: 11106811 | D13: 2672.3479 | E13: 0 | F13: 12364330 | G13: 0 | H13: 15318.034 | I13: 5380.8621 | J13: 0 | K13: 20698.896 | L13: 12343631 | M13: 13589.536 | N13: 12330042 | O13: 0.016 | P13: 15133.84 | Q13: 2235737 | R13: 5.521057
A14: mart | B14: 1220353.7 | C14: 11073423 | D14: 2448.8413 | E14: 0 | F14: 12296225 | G14: 0 | H14: 2478.5197 | I14: 4393.6955 | J14: 0 | K14: 6872.2152 | L14: 12289353 | M14: 0 | N14: 12289353 | O14: 0.016 | P14: 16700.08 | Q14: 2235737 | R14: 5.4967794
A15: april | B15: 1197603 | C15: 11015501 | D15: 2454.472 | E15: 0 | F15: 12215558 | G15: 0 | H15: 1469.0917 | I15: 1113.3387 | J15: 0 | K15: 2582.4303 | L15: 12212976 | M15: 0 | N15: 12212976 | O15: 0.016 | P15: 16060.92 | Q15: 2235737 | R15: 5.4626174
A16: maj | B16: 1183486.8 | C16: 10865038 | D16: 2734.1852 | E16: 0 | F16: 12051259 | G16: 0 | H16: 4603.9381 | I16: 5180.8129 | J16: 0 | K16: 9784.751 | L16: 12041474 | M16: 0 | N16: 12041474 | O16: 0.016 | P16: 16363.22 | Q16: 2235737 | R16: 5.3859081
A17: juni | B17: 1161741.6 | C17: 10821712 | D17: 2026.5773 | E17: 0 | F17: 11985481 | G17: 0 | H17: 4173.9347 | I17: 5454.4067 | J17: 0 | K17: 9628.3413 | L17: 11975852 | M17: 20457.302 | N17: 11955395 | O17: 0.016 | P17: 15722.15 | Q17: 2235737 | R17: 5.3565568
A18: Ukupno | B18: =+SUM(B12:B17) -> 7258313.7 | C18: =+SUM(C12:C17) -> 66026581 | D18: =+SUM(D12:D17) -> 41121.539 | E18: =+SUM(E12:E17) -> 0 | F18: =+SUM(F12:F17) -> 73326017 | G18: =+SUM(G12:G17) -> 0 | H18: =+SUM(H12:H17) -> 38351.344 | I18: =+SUM(I12:I17) -> 25843.235 | ... N18: =+SUM(N12:N17) -> 73215359 | P18: =+SUM(P12:P17) -> 96811.75
A19: Prosjek za period | B19: =+AVERAGE(B12:B17) -> 1209719 | C19: =+AVERAGE(C12:C17) -> 11004430 | D19: =+AVERAGE(D12:D17) -> 6853.5899 | E19: =+AVERAGE(E12:E17) -> 0 | F19: =+AVERAGE(F12:F17) -> 12221003 | G19: =+AVERAGE(G12:G17) -> 0 | H19: =+AVERAGE(H12:H17) -> 6391.8906 | I19: =+AVERAGE(I12:I17) -> 4307.2058 | ... R19: =+AVERAGE(R12:R17) -> 5.4614222
A22: =+' Prilog 1'!A38 -> Datum izvještaja: 30.06.2026.g.
A23: Ime i prezime osobe koja je sačinila izvještaj: | O23: Ime i prezime odgovornog lica društva za upravljanje
O25: ________________________________________
A26: Elvira Žilić dipl.ecc | P26: Nedim Vilogorac dipl. oec.

Sheet  Prilog 3a
A1: Naziv fonda : | D1: ZIF "FORTUNA FOND" d.d. | Q1: Prilog 3a
A2: Registarski broj fonda : | D2: ZJP-031-03
A3: Naziv društva za upravljanje: | D3: LILIUM ASSET MANAGEMENT d.o.o. Sarajevo
A4: Matični broj društva za upravljanje: | D4: ='Prilog 2'!D4 -> 65-01-0233-08
A5: JIB društva za upravljanje: | D5: 4201337670008
A6: JIB investicionog fonda: | D6: 4263012890007
B7: IZVJEŠTAJ O OBRAČUNU NETO VRIJEDNOSTI IMOVINE INVESTICIJSKOG FONDA PO DIONICI/UDJELU na dan 30.06.2026.g.
A8: Redni broj | B8: Opis | H8: Ukupna vrijednost na dan izvještaja | N8: Učešće u vrijednosti imovine fonda (%)
A9: 1 | B9: 2 | H9: 3 | N9: 4
A10: I | B10: IMOVINA INVESTICIJSKOG FONDA
A11: 1. | B11: Gotovina i gotovinski ekvivalenti | H11: 1156694 | N11: =+H11/$H$24 -> 0.096328939
A12: 2. | B12: Ulaganje fonda (2.1+2.2.+2.3.+2.4.+2.5.+2.6.+2.7.) | H12: 10843245 | N12: =+H12/$H$24 -> 0.9030204
A13: 2.1. | B13: Ulaganje u instrumente kapitala (dionice osim dionica investicijskih fondova) | H13: 4880197.3 | N13: =+H13/$H$24 -> 0.40642056
A14: 2.2. | B14: Ulaganja u dužničke instrumente (obveznice) | H14: 14190.218 | N14: =+H14/$H$24 -> 0.0011817548
A15: 2.3. | B15: Ulaganja u druge vrste dužničkih instrumenata | N15: =+H15/$H$24 -> 0
A16: 2.4. | B16: Ulaganja u dionice i udjele investicijskih fondova | H16: 948857.35 | N16: =+H16/$H$24 -> 0.0790204
A17: 2.5. | B17: Ostala finansijska imovina | N17: =+H17/$H$24 -> 0
A18: 2.6. | B18: Depoziti i plasmani | H18: 5000000 | N18: =+H18/$H$24 -> 0.41639768
A19: 2.7. | B19: Ulaganja u nekretnine | N19: =+H19/$H$24 -> 0
A20: 3. | B20: Potraživanja (3.1.+3.2.+3.3.) | H20: 7813 | N20: =+H20/$H$24 -> 0.00065066301
A21: 3.1. | B21: Potraživanja iz poslovanja | H21: 7813 | N21: =+H21/$H$24 -> 0.00065066301
A22: 3.2. | B22: Potraživanja od društva za upravljanje | N22: =+H22/$H$24 -> 0
A23: 3.3. | B23: Ostala potraživanja, odgođena porezna imovina i razgraničenja | N23: =+H23/$H$24 -> 0
A24: I=(1+2+3) | B24: UKUPNA IMOVINA INVESTICIJSKOG FONDA | H24: 12007752 | N24: =+H24/$H$24 -> 1
A25: II | B25: OBAVEZE INVESTICIJSKOG FONDA
A26: 4. | B26: Obaveze po osnovu ulaganja | H26: 0
A27: 5. | B27: Obaveze po osnovu troškova poslovanja | H27: 17345.95
A28: 6. | B28: Obaveze prema društvu za upravljanje | H28: 15722.15
A29: 7. | B29: Ostale obaveze | H29: 0
A30: II=(4+5+6+7) | B30: UKUPNE OBAVEZE INVESTICIJSKOG FONDA | H30: 33068.1
A31: III=(I-II) | B31: NETO IMOVINA INVESTICIJSKOG FONDA | H31: 11974684
A32: IV | B32: BROJ DIONIOCA/UDJELA | H32: 2235737
A33: V=(III/IV) | B33: NETO VRIJEDNOST IMOVINE PO DIONICI/UDJELU | H33: 5.3560342
A34: VI | B34: CIJENA DIONICE/UDJELA | H34: 1.59
A37: =' Prilog 1'!A38 -> Datum izvještaja: 30.06.2026.g.
A38: Ime i prezime osobe koja je sačinila izvještaj: | H38: Ime i prezime odgovornog lica društva za upravljanje
A40: ='Prilog 4'!B36 -> Elvira Žilić dipl.ecc | H40: Nedim Vilogorac dipl. oec.

Sheet Prilog 4
B1: Naziv fonda : | C1: ='Prilog 2'!D1 -> ZIF "FORTUNA FOND" d.d. | D1: Prilog 4.
B2: Registarski broj fonda : | C2: ='Prilog 2'!D2 -> ZJP-031-03
B3: Naziv društva za upravljanje: | C3: ='Prilog 2'!D3 -> LILIUM ASSET MANAGEMENT d.o.o. Sarajevo
B4: Matični broj društva za upravljanje: | C4: ='Prilog 2'!D4 -> 65-01-0233-08
B5: JIB društva za upravljanje: | C5: ='Prilog 2'!D5 -> 4201337670008
B6: JIB investicionog fonda: | C6: ='Prilog 2'!D6 -> 4263012890007
A8: IZVJEŠTAJ O STRUKTURI I VISINI TROŠKOVA INVESTICIJSKOG FONDA za period 01.01.-30.06.2026.g.
A11: Rb. | B11: Vrsta troška | C11: Iznos (KM) | D11: Udio %
A13: 1 | B13: 2 | C13: 3 | D13: 4
A14: 1 | B14: Naknada društvu za upravljanje (provizija) | C14: =81089.6+15722.15 -> 96811.75 | D14: =+C14/$C$27 -> 0.48021866
A15: 2 | B15: Naknada Registru vrijednosnih papira u Federaciji BiH | C15: 6097.64 | D15: =+C15/$C$27 -> 0.030246334
A16: 3 | B16: Naknada depozitaru | C16: 16903.04 | D16: =+C16/$C$27 -> 0.083844731
A17: 4 | B17: Naknada za reviziju | C17: 0 | D17: =+C17/$C$27 -> 0
A18: 5 | B18: Naknada za računovodstvo | C18: 0 | D18: =+C18/$C$27 -> 0
A19: 6 | B19: Naknada berzi | C19: 11400 | D19: =+C19/$C$27 -> 0.056547813
A20: 7 | B20: Troškovi kupovine i prodaje ulaganja | C20: 255.18 | D20: =+C20/$C$27 -> 0.0012657781
A21: 8 | B21: Troškovi servisiranja dioničara | C21: 5130.45 | D21: =+C21/$C$27 -> 0.025448748
A22: 9 | B22: Naknade i troškovi nadzornog odbora | C22: 3929.06 | D22: =+C22/$C$27 -> 0.019489452
A23: 10 | B23: Naknade i troškovi direktora fonda | C23: 45268.9 | D23: =+C23/$C$27 -> 0.22454888
A24: 11 | B24: Naknada Komisiji za vrijednosne papire Federacije BiH | C24: =12637.87+1097.79 -> 13735.66 | D24: =+C24/$C$27 -> 0.068133467
A25: 12 | B25: Rashodi po osnovu poreza | C25: 0 | D25: =+C25/$C$27 -> 0
A26: 13 | B26: Ostali troškovi | C26: 2067.63 | D26: =+C26/$C$27 -> 0.010256136
A27: 14 | B27: Ukupno troškovi: | C27: =+SUM(C14:C26) -> 201599.31 | D27: =+C27/$C$27 -> 1
A28: 15 | B28: Ukupno troškovi iz člana 65. ili 93. Zakona o investicijskim fondovima | C28: =+C27 -> 201599.31 | D28: =+C28/$C$27 -> 1
A29: 16 | B29: Prosječna vrijednost neto imovine fonda za period 01.01.-30.06.2026. | C29: =+'Prilog 3'!L19 -> 12210304
A30: 17 | B30: Udio troškove iz tačke 15. u prosječnoj neto vrijednosti imovine fonda (%) za------ period | C30: =+C28/C29 -> 0.016510589
B33: =' Prilog 1'!A38 -> Datum izvještaja: 30.06.2026.g.
B34: Ime i prezime osobe koja je sačinila izvještaj: | C34: Ime i prezime odgovornog lica društva za upravljanje
B36: =+' Prilog 1'!A40 -> Elvira Žilić dipl.ecc | C36: =+' Prilog 1'!C40 -> Nedim Vilogorac dipl. oec.

Sheet Prilog 5
B1: Naziv fonda : | E1: ='Prilog 2'!D1 -> ZIF "FORTUNA FOND" d.d.
B2: Registarski broj fonda : | E2: ='Prilog 2'!D2 -> ZJP-031-03 | Q2: Prilog 5
B3: Naziv društva za upravljanje: | E3: ='Prilog 2'!D3 -> LILIUM ASSET MANAGEMENT d.o.o. Sarajevo
B4: Matični broj društva za upravljanje: | E4: ='Prilog 2'!D4 -> 65-01-0233-08
B5: JIB društva za upravljanje: | E5: ='Prilog 2'!D5 -> 4201337670008
B6: JIB investicionog fonda: | E6: ='Prilog 2'!D6 -> 4263012890007
B8: IZVJEŠTAJ O TRANSAKCIJAMA IMOVINOM INVESTICIJSKOG FONDA za period 01.01.-30.06.2026.g.
A11: R. Br. | B11: Naziv emitenta | C11: Simbol | D11: Stanje na početku perioda | H11: Transakcije tokom perioda | N11: Stanje na kraju perioda
H12: Kupovine | K12: Prodaje
D13: % učešća kod emitenta | E13: Jedinična fer vrij. | F13: Ukupna fer vrijednost ulaganja | G13: % učešća u NVI fonda | H13: količina | I13: prosječna cijena | J13: vrijednost | K13: količina | L13: prosječna cijena | M13: vrijednost | N13: % učešća kod emitenta | O13: Jedinična fer vrij. | P13: Ukupna fer vrijednost ulaganja | Q13: % učešća u NVI fonda
A15: 1 | B15: 2 | C15: 3 | D15: 4 | E15: 5 | F15: 6 | G15: 7 | H15: 8 | I15: 9 | J15: 10 | K15: 11 | L15: 12 | M15: 13 | N15: 14 | O15: 15 | P15: 16 | Q15: 17
A16: ULAGANJA U INSTRUMENTE KAPITALA
A17: 1 | B17: PREVOZ RADNIKA KREKA DD TUZLA D.D. TUZLA | C17: PRAKRK3 | D17: 0.096967987 | E17: 1.06 | F17: 23320 | G17: 0.0018761656 | H17: - | I17: - | J17: - | K17: 22000 | L17: 1.4 | M17: 30800 | N17: - | O17: - | P17: - | Q17: -
A18: 2 | B18: ENERGOINVEST D.D. SARAJEVO | C18: ENISR | D18: 0.0063149285 | E18: 2.4072 | F18: 268419.65 | G18: 0.021595185 | H18: - | I18: - | J18: - | K18: 1507 | L18: 2.6 | M18: 3918.2 | N18: ='Prilog 2'!F17 -> 0.0062295832 | O18: ='Prilog 2'!H17 -> 2.79 | P18: ='Prilog 2'!I17 -> 306900 | Q18: ='Prilog 2'!J17 -> 0.02559312
M25: =SUM(M17:M24) -> 34718.2
A26: ULAGANJA U DUŽNIČKE INSTRUMENTE
M30: =SUM(M27:M29) -> 0
A31: ULAGANJA U UDJELE INVESTICIJSKIH FONDOVA
A32: - | B32: - | C32: - | D32: - | E32: - | F32: - | G32: - | H32: - | I32: - | J32: - | K32: - | L32: - | M32: - | N32: - | O32: - | P32: - | Q32: -
A34: ULAGANJA U OSTALE FINANSIJSKE INSTRUMENTE I DERIVATE
A35: - | B35: - | C35: - | D35: - | E35: - | F35: - | G35: - | H35: - | I35: - | J35: - | K35: - | L35: - | M35: - | N35: - | O35: - | P35: - | Q35: -
A38: R. Br. | B38: Stanje na početku perioda | G38: Transakcije tokom perioda | M38: Stanje na kraju perioda
G39: Kupovina | J39: Prodaja
B40: Vrsta nekretnine | C40: Površina m2 | D40: Cijena po m2 | E40: Fer vrijednost | F40: % učešća u NVI fonda | G40: Površina m2 | H40: Cijena po m2 | I40: Fer vrijednost | J40: Površina m2 | K40: Cijena po m2 | L40: Fer vrijednost | M40: Površina m2 | N40: Cijena m2 | O40: Fer vrijednost | P40: % učešća u NVI fonda
A42: ULAGANJE U NEKRETNINE
A43: - | B43: - | C43: - | D43: - | E43: - | F43: - | G43: - | H43: - | I43: - | J43: - | K43: - | L43: - | M43: - | N43: - | O43: - | P43: -
A46: R. Br. | B46: Stanje na početku perioda | E46: Transakcije tokom perioda | K46: Stanje na kraju perioda
E47: Ulaganja | H47: Dospjeće
B48: Naziv banke | C48: Vrijednost depozita | D48: % učešća u NIV fonda | E48: Naziv banke | F48: Iznos | G48: % učešća u NVI fonda | H48: Naziv banke | I48: Iznos | J48: % učešća u NVI fonda | K48: Naziv banke | L48: Vrijednost depozita | M48: % učešća u NVI fonda
A50: 1 | B50: 2 | C50: 3 | D50: 4 | E50: 5 | F50: 6 | G50: 7 | H50: 8 | I50: 9 | J50: 10 | K50: 11 | L50: 12 | M50: 13
A51: ULAGANJE U DEPOZITE
A52: 1 | B52: - | C52: - | D52: - | E52: - | F52: - | G52: - | H52: - | I52: - | J52: - | K52: - | L52: - | M52: -
A53: 2 | B53: - | C53: - | D53: - | E53: - | F53: - | G53: - | H53: - | I53: - | J53: - | K53: - | L53: - | M53: -
A58: =' Prilog 1'!A38 -> Datum izvještaja: 30.06.2026.g.
A59: Ime i prezime osobe koja je sačinila izvještaj: | L59: Ime i prezime odgovornog lica društva za upravljanje
A61: =' Prilog 1'!A40 -> Elvira Žilić dipl.ecc | L61: Nedim Vilogorac dipl. oec.

Sheet Prilog 5a
B1: Naziv fonda : | H1: ZIF "FORTUNA FOND" d.d.
B2: Registarski broj fonda : | H2: ZJP-031-03
B3: Naziv društva za upravljanje: | H3: LILIUM ASSET MANAGEMENT d.o.o. Sarajevo
B4: Matični broj društva za upravljanje: | H4: ='Prilog 2'!D4 -> 65-01-0233-08
B5: JIB društva za upravljanje: | H5: 4201337670008
B6: JIB investicionog fonda: | H6: 4263012890007
M8: Prilog 5a
B10: IZVJEŠTAJ O REALIZIRANIM DOBICIMA (GUBICIMA) OD PRODAJE IMOVINE INVESTICIJSKOG FONDA za period 01.01.-30.06.2026.g.
B14: Datum prodaje | F14: Vrsta ulaganja | G14: Simbol ili oznaka | H14: Naziv emitenta | I14: Oznaka kategorije finansijske imovine i obaveze prema MSFI 9* | J14: Količina ili nominalna vrijednost | K14: Knjigovodstvena ili fer vrijednost | L14: Prodajna vrijednost | M14: Realizirani dobitak/gubitak
B17: 46042 | F17: 1. Prenosivi vlasnički vrijednosni papiri | G17: PRAKRK3 | H17: PREVOZ RADNIKA KREKA DD TUZLA D.D. TUZLA | I17: 1. Finansijska imovina i finansijske obaveze po fer vrijednosti kroz bilans uspjeha | J17: 22000 | K17: 23320 | L17: 30800 | M17: 7480
B18: 46051 | F18: 1. Prenosivi vlasnički vrijednosni papiri | G18: ENISR | H18: ENERGOINVEST D.D. SARAJEVO | I18: 1. Finansijska imovina i finansijske obaveze po fer vrijednosti kroz bilans uspjeha | J18: 1507 | K18: 3627.65 | L18: 3918.2 | M18: =-73710.92+290.55 -> -73420.37
I19: Ukupno: | L19: =+SUM(L17:L18) -> 34718.2 | M19: =+SUM(M17:M18) -> -65940.37
B21: =' Prilog 1'!A38 -> Datum izvještaja: 30.06.2026.g.
B22: Ime i prezime osobe koja je sačinila izvještaj | K22: Ime i prezime odgovornog lica društva za upravljanje
B24: =+' Prilog 1'!A40 -> Elvira Žilić dipl.ecc | K24: =+' Prilog 1'!C40 -> Nedim Vilogorac dipl. oec.
B26: pri čemu Vrsta ulaganja može biti:
B27: 1. Prenosivi vlasnički vrijednosni papiri
B28: 2. Prenosivi dužnički vrijednosni papiri
B29: 3. Instrumenti tržišta novca
B30: 4. Udjeli/dionice investicijskih fondova
B31: 5. Depoziti
B32: 6. Nekretnine
B33: 7. Finansijski derivati
B34: 8. Ostala ulaganja
B35: 9. Poslovni udjeli
B36: *Oznaka kategorije finansijske imovine prema MSFI 9
B37: 1. Finansijska imovina i finansijske obaveze po fer vrijednosti kroz bilans uspjeha
... B39: 3 Finansijska imovina i obaveze po amortizovanom trošku

Sheet Prilog 5b
B1: Naziv fonda : | K1: ZIF "FORTUNA FOND" d.d.
B2: Registarski broj fonda : | K2: ZJP-031-03
B3: Naziv društva za upravljanje: | K3: LILIUM ASSET MANAGEMENT d.o.o. Sarajevo
B4: Matični broj društva za upravljanje: | K4: ='Prilog 2'!D4 -> 65-01-0233-08
B5: JIB društva za upravljanje: | K5: 4201337670008
B6: JIB investicionog fonda: | K6: 4263012890007
K9: Prilog 5b
B11: IZVJEŠTAJ O NEREALIZIRANIM DOBICIMA (GUBICIMA) I UMANJENJU VRIJEDNOSTI IMOVINE INVESTICIJSKOG FONDA na dan 30.06.2026.g.
B15: Vrsta ulaganja | F15: Simbol ili oznaka | G15: Naziv emitenta ili druge ugovorne strane | H15: Oznaka kategorije imovine i obaveza prema MSF19* | I15: Trošak nabave ili početna vrijednost izvještajnog perioda | J15: Knjigovodstvena ili fer vrijednost | K15: Nerealizirani dobitak ili gubitak priznat kroz bilans uspjeha -usklađivanje fer vrijednosti
B18: 1. Prenosivi vlasnički vrijednosni papiri | F18: =+'Prilog 2'!C14 -> BHTSR | G18: =+'Prilog 2'!B14 -> BH TELECOM D.D. SARAJEVO | H18: 1. Finansijska imovina i finansijske obaveze po fer vrijednosti kroz bilans uspjeha | I18: 1866451.9 | J18: =+'Prilog 2'!I14 -> 1838596.8 | K18: =+J18-I18 -> -27855.053
B19: 1. Prenosivi vlasnički vrijednosni papiri | F19: =+'Prilog 2'!C15 -> BIPVR | G19: =+'Prilog 2'!B15 -> BIHAĆKA PIVOVARA D.D. BIHAĆ | H19: 1. Finansijska imovina i finansijske obaveze po fer vrijednosti kroz bilans uspjeha | I19: 239031.1 | J19: =+'Prilog 2'!I15 -> 239031.1 | K19: =+J19-I19 -> 0
B20: 1. Prenosivi vlasnički vrijednosni papiri | F20: =+'Prilog 2'!C16 -> BIRBRK4 | G20: =+'Prilog 2'!B16 -> BIRA D.D. BIHAĆ | H20: 1. Finansijska imovina i finansijske obaveze po fer vrijednosti kroz bilans uspjeha | I20: 6106.184 | J20: =+'Prilog 2'!I16 -> 6106.184 | K20: =+J20-I20 -> 0
B21: 1. Prenosivi vlasnički vrijednosni papiri | F21: =+'Prilog 2'!C17 -> ENISR | G21: =+'Prilog 2'!B17 -> ENERGOINVEST D.D. SARAJEVO | H21: 1. Finansijska imovina i finansijske obaveze po fer vrijednosti kroz bilans uspjeha | I21: =268419.6504-77338.57 -> 191081.08 | J21: =+'Prilog 2'!I17 -> 306900 | K21: =+J21-I21 -> 115818.92
B22: 1. Prenosivi vlasnički vrijednosni papiri | F22: =+'Prilog 2'!C18 -> INGRK2 | G22: =+'Prilog 2'!B18 -> INGRAM D.D. SREBRENIK | H22: 1. Finansijska imovina i finansijske obaveze po fer vrijednosti kroz bilans uspjeha | I22: 48450 | J22: =+'Prilog 2'!I18 -> 48210 | K22: =+J22-I22 -> -240
B23: 1. Prenosivi vlasnički vrijednosni papiri | F23: =+'Prilog 2'!C19 -> SVIPR | G23: =+'Prilog 2'!B19 -> IP SVJETLOST D.D. SARAJEVO | H23: 1. Finansijska imovina i finansijske obaveze po fer vrijednosti kroz bilans uspjeha | I23: 6672 | J23: =+'Prilog 2'!I19 -> 6672 | K23: =+J23-I23 -> 0
B24: 1. Prenosivi vlasnički vrijednosni papiri | F24: =+'Prilog 2'!C20 -> JPESR | G24: =+'Prilog 2'!B20 -> JP ELEKTROPRIVREDA BIH D.D. SARAJEVO | H24: 1. Finansijska imovina i finansijske obaveze po fer vrijednosti kroz bilans uspjeha | I24: 752414.54 | J24: =+'Prilog 2'!I20 -> 718231.93 | K24: =+J24-I24 -> -34182.61
B25: 1. Prenosivi vlasnički vrijednosni papiri | F25: =+'Prilog 2'!C21 -> HTKMR | G25: =+'Prilog 2'!B21 -> JP HT D.D. MOSTAR | H25: 1. Finansijska imovina i finansijske obaveze po fer vrijednosti kroz bilans uspjeha | I25: 1231971.6 | J25: =+'Prilog 2'!I21 -> 1066950 | K25: =+J25-I25 -> -165021.6
B26: 1. Prenosivi vlasnički vrijednosni papiri | F26: =+'Prilog 2'!C22 -> SVKORA | G26: =+'Prilog 2'!B22 -> SVJETLOSTKOMERC DD SARAJEVO | H26: 1. Finansijska imovina i finansijske obaveze po fer vrijednosti kroz bilans uspjeha | I26: 63445.5 | J26: =+'Prilog 2'!I22 -> 63445.5 | K26: =+J26-I26 -> 0
B27: 1. Prenosivi vlasnički vrijednosni papiri | F27: =+'Prilog 2'!C23 -> BOKS-R-A | G27: =+'Prilog 2'!B23 -> BOKSIT A.D. MILIĆI | H27: 1. Finansijska imovina i finansijske obaveze po fer vrijednosti kroz bilans uspjeha | I27: 10428.4 | J27: =+'Prilog 2'!I23 -> 11471.24 | K27: =+J27-I27 -> 1042.84
B28: 1. Prenosivi vlasnički vrijednosni papiri | F28: =+'Prilog 2'!C24 -> CMEG-R-A | G28: =+'Prilog 2'!B24 -> ČAJEVAC MEGA AD BANJALUKA | H28: 1. Finansijska imovina i finansijske obaveze po fer vrijednosti kroz bilans uspjeha | I28: 115257.6 | J28: =+'Prilog 2'!I24 -> 109494.72 | K28: =+J28-I28 -> -5762.88
B29: 1. Prenosivi vlasnički vrijednosni papiri | F29: =+'Prilog 2'!C25 -> HEDR-R-A | G29: =+'Prilog 2'!B25 -> HIDROELEKTRANE NA DRINI A.D. VIŠEGRAD | H29: 1. Finansijska imovina i finansijske obaveze po fer vrijednosti kroz bilans uspjeha | I29: 384002.15 | J29: =+'Prilog 2'!I25 -> 322981.68 | K29: =+J29-I29 -> -61020.467
B30: 1. Prenosivi vlasnički vrijednosni papiri | F30: =+'Prilog 2'!C26 -> HETR-R-A | G30: =+'Prilog 2'!B26 -> HIDROELEKTRANE NA TREBIŠNJICI A.D. TREBINJE | H30: 1. Finansijska imovina i finansijske obaveze po fer vrijednosti kroz bilans uspjeha | I30: 28810.408 | J30: =+'Prilog 2'!I26 -> 27467.55 | K30: =+J30-I30 -> -1342.858
B31: 1. Prenosivi vlasnički vrijednosni papiri | F31: =+'Prilog 2'!C27 -> VDBL-R-A | G31: =+'Prilog 2'!B27 -> VODOVOD A.D. BANJA LUKA | H31: 1. Finansijska imovina i finansijske obaveze po fer vrijednosti kroz bilans uspjeha | I31: 71000 | J31: =+'Prilog 2'!I27 -> 71000 | K31: =+J31-I31 -> 0
B32: 1. Prenosivi vlasnički vrijednosni papiri | F32: =+'Prilog 2'!C28 -> IPBL-K-A | G32: =+'Prilog 2'!B28 -> INDUSTRIJSKE PLANTAŽE A.D. BANJA LUKA | H32: 1. Finansijska imovina i finansijske obaveze po fer vrijednosti kroz bilans uspjeha | I32: 175 | J32: =+'Prilog 2'!I28 -> 175 | K32: =+J32-I32 -> 0
B33: 1. Prenosivi vlasnički vrijednosni papiri | F33: =+'Prilog 2'!C29 -> ELBJ-R-A | G33: =+'Prilog 2'!B29 -> MH ERS - MP AD TREBINJE - ZEDP ELEKTRO-BIJELJINA AD BIJELJINA | H33: 1. Finansijska imovina i finansijske obaveze po fer vrijednosti kroz bilans uspjeha | I33: 910.08 | J33: =+'Prilog 2'!I29 -> 985.92 | K33: =+J33-I33 -> 75.84
... B36: 1. Prenosivi vlasnički vrijednosni papiri | F36: =+'Prilog 2'!C32 -> TLKM-R-A | G36: =+'Prilog 2'!B32 -> TELEKOM SRPSKE AD BANJA LUKA | H36: 1. Finansijska imovina i finansijske obaveze po fer vrijednosti kroz bilans uspjeha | I36: 40806.02 | J36: =+'Prilog 2'!I32 -> 41553.383 | K36: =+J36-I36 -> 747.363
B37: 4. Udjeli/dionice investicijskih fondova | F37: =+'Prilog 2'!C35 -> EFNFRK1 | G37: =+'Prilog 2'!B35 -> ZIF EUROFOND-1 D.D. TUZLA | H37: 1. Finansijska imovina i finansijske obaveze po fer vrijednosti kroz bilans uspjeha | I37: 3753.94 | J37: =+'Prilog 2'!I35 -> 3753.94 | K37: =+J37-I37 -> 0
B38: 4. Udjeli/dionice investicijskih fondova | F38: =+'Prilog 2'!C36 -> MIGFRK2 | G38: =+'Prilog 2'!B36 -> ZIF MI GROUP D.D. SARAJEVO | H38: 1. Finansijska imovina i finansijske obaveze po fer vrijednosti kroz bilans uspjeha | I38: 128156.2 | J38: =+'Prilog 2'!I36 -> 110063.56 | K38: =+J38-I38 -> -18092.64
B39: 2. Prenosivi dužnički vrijednosni papiri | F39: =+'Prilog 2'!C53 -> RSRS-O-I | G39: =+'Prilog 2'!B53 -> REPUBLIKA SRPSKA - MINISTARSTVO FINANSIJA - RATNA ŠTETA 9 | H39: 1. Finansijska imovina i finansijske obaveze po fer vrijednosti kroz bilans uspjeha | I39: 3305.835 | J39: =+'Prilog 2'!I53 -> 3305.835 | K39: =+J39-I39 -> 0
B40: 2. Prenosivi dužnički vrijednosni papiri | F40: =+'Prilog 2'!C54 -> RSRS-O-J | G40: =+'Prilog 2'!B54 -> REPUBLIKA SRPSKA - MINISTARSTVO FINANSIJA - RATNA ŠTETA 10 | H40: 1. Finansijska imovina i finansijske obaveze po fer vrijednosti kroz bilans uspjeha | I40: 678.24 | J40: =+'Prilog 2'!I54 -> 678.24 | K40: =+J40-I40 -> 0
B41: 2. Prenosivi dužnički vrijednosni papiri | F41: =+'Prilog 2'!C55 -> RSRS-O-L | G41: =+'Prilog 2'!B55 -> REPUBLIKA SRPSKA - MINISTARSTVO FINANSIJA - RATNA ŠTETA 12 | H41: 1. Finansijska imovina i finansijske obaveze po fer vrijednosti kroz bilans uspjeha | I41: =12351.6435-2145.5 -> 10206.144 | J41: =+'Prilog 2'!I55 -> 10206.144 | K41: =+J41-I41 -> 0
B42: 4. Udjeli/dionice investicijskih fondova | F42: =+'Prilog 2'!C80 -> - | G42: =+'Prilog 2'!B80 -> OIF MONETA Podgorica | H42: 1. Finansijska imovina i finansijske obaveze po fer vrijednosti kroz bilans uspjeha | I42: 861549.05 | J42: =+'Prilog 2'!I80 -> 835039.85 | K42: =+J42-I42 -> -26509.202
B44: Neto kursne razlike | F44: Amortizacija diskonta ili premije imovine s fiksnim dospijećem | G44: Umanjenje vrijednosti za očekivane kreditne gubitke | H44: Nerealizirani dobitak ili gubitak priznat kroz ostali ukupni reultat (u izvještajnom periodu) | I44: Revalorizacijske rezerve računovodstvene zaštite
B50: =' Prilog 1'!A38 -> Datum izvještaja: 30.06.2026.g. | J50: Ime i prezime odgovornog lica društva za upravljanje
B51: Ime i prezime osobe koja je sačinila izvještaj
J52: =+' Prilog 1'!C40 -> Nedim Vilogorac dipl. oec.
B53: =+' Prilog 1'!A40 -> Elvira Žilić dipl.ecc
B56: pri čemu Vrsta ulaganja može biti:
B57: 1. Prenosivi vlasnički vrijednosni papiri
B58: 2. Prenosivi dužnički vrijednosni papiri
B59: 3. Instrumenti tržišta novca
B60: 4. Udjeli/dionice investicijskih fondova
B61: 5. Depoziti
B62: 6. Nekretnine
B63: 7. Finansijski derivati
B64: 8. Ostala ulaganja
B65: 9. Poslovni udjeli
B66: *Oznaka kategorije finansijske imovine prema MSFI 9
B67: 1. Finansijska imovina i finansijske obaveze po fer vrijednosti kroz bilans uspjeha
... B69: 3 Finansijska imovina i obaveze po amortizovanom trošku

Sheet Prilog 5c
A1: Naziv fonda : | C1: ='Prilog 2'!D1 -> ZIF "FORTUNA FOND" d.d. | E1: Prilog 5c
A2: Registarski broj fonda : | C2: ='Prilog 2'!D2 -> ZJP-031-03
A3: Naziv društva za upravljanje: | C3: ='Prilog 2'!D3 -> LILIUM ASSET MANAGEMENT d.o.o. Sarajevo
A4: Matični broj društva za upravljanje: | C4: ='Prilog 2'!D4 -> 65-01-0233-08
A5: JIB društva za upravljanje: | C5: ='Prilog 2'!D5 -> 4201337670008
A6: JIB investicionog fonda: | C6: ='Prilog 2'!D6 -> 4263012890007
A8: IZVJEŠTAJ O VRIJEDNOSTI TRANSAKCIJA FONDA OBAVLJENIM PUTEM POJEDINAČNOG PROFESIONALNOG POSREDNIKA I IZNOSU OBRAČUNATE NAKNADE za period 01.01.-30.06.2026.g.
A13: Naziv berzanskog posrednika | B13: Vrijednost transakcija | C13: Učešće u ukupnoj vrijednosti transakcija | D13: Iznos provizije | E13: Učešće provizije u vrijednosti transkcija
A14: 1 | B14: 2 | C14: 3 | D14: 4 | E14: 5=4/3
A15: ASA banka dd | B15: 30800 | C15: =+B15/$B$17 -> 0.88714277 | D15: =200.2+26.18 -> 226.38 | E15: =+D15/B15 -> 0.00735
A16: ASA banka dd | B16: 3918.2 | C16: =+B16/$B$17 -> 0.11285723 | D16: =25.47+3.33 -> 28.8 | E16: =+D16/B16 -> 0.0073503139
A17: Ukupno | B17: =SUM(B15:B16) -> 34718.2 | C17: =SUM(C15:C16) -> 1 | D17: =SUM(D15:D16) -> 255.18
A20: =' Prilog 1'!A38 -> Datum izvještaja: 30.06.2026.g.
A21: Ime i prezime osobe koja je sačinila izvještaj: | C21: Ime i prezime odgovornog lica društva za upravljanje
A23: =' Prilog 1'!A40 -> Elvira Žilić dipl.ecc | C23: Nedim Vilogorac dipl. oec.

Sheet Prilog 6
B1: Naziv fonda : | C1: ='Prilog 2'!D1 -> ZIF "FORTUNA FOND" d.d. | D1: Prilog 6
B2: Registarski broj fonda : | C2: ='Prilog 2'!D2 -> ZJP-031-03
B3: Naziv društva za upravljanje: | C3: ='Prilog 2'!D3 -> LILIUM ASSET MANAGEMENT d.o.o. Sarajevo
B4: Matični broj društva za upravljanje: | C4: ='Prilog 2'!D4 -> 65-01-0233-08
B5: JIB društva za upravljanje: | C5: ='Prilog 2'!D5 -> 4201337670008
B6: JIB investicionog fonda: | C6: ='Prilog 2'!D6 -> 4263012890007
A8: IZVJEŠTAJ O FINANSIJSKIM POKAZATELJIMA INVESTICIJSKOG FONDA za period 01.01.-30.06.2026.g.
A11: R.Br. | B11: Pozicija | C11: Tekuća godina | D11: Prethodna godina
A12: 1 | B12: 2 | C12: 3 | D12: 4
A13: I | B13: Vrijednost neto imovine po dionici/udjelu fonda na početku perioda
A14: 1. | B14: Neto imovina investicijskog fonda na početku perioda | C14: 12411736 | D14: 12411902
A15: 2. | B15: Broj dionica/udjela na početku perioda | C15: 2235737 | D15: 2235737
A16: 3 | B16: Vrijednost dionice/udjela na početku perioda | C16: 5.559512 | D16: 5.5596009
A17: II | B17: Vrijednost neto imovine investicijskog fonda po dionici/udjela na kraju perioda
A18: 1. | B18: Neto imovina investicijskog fonda na kraju perioda | C18: =+' Prilog 3a'!H31 -> 11974684 | D18: 12473053
A19: 2. | B19: Broj dionica/udjela na kraju perioda | C19: =+C15 -> 2235737 | D19: 2235737
A20: 3. | B20: Vrijednost dionice/udjela na kraju perioda | C20: =+C18/C19 -> 5.3560342 | D20: 5.5789446
A21: III | B21: Vrijednost neto imovine investicijskog fonda po dionici/udjela tokom perioda
A22: 1. | B22: Najniža neto vrijednost imovine investicijskog fonda po dionici/udjelu | C22: =+MAX('Prilog 3'!R12:R41) -> 5.5456144 | D22: 5.6623333
A23: 2. | B23: Najviša neto vrijednost imovine po dionici/udjelu | C23: =+MIN('Prilog 3'!R12:R41) -> 5.3565568 | D23: 5.5605195
A24: 3. | B24: Najniža cijena dionice/vrijednost udjela | C24: 1.56 | D24: -
A25: 4. | B25: Najviša cijena dionice/vrijednosti udjela | C25: 1.59 | D25: -
A26: 5. | B26: Prosječna cijena dionice/vrijednosti udjela | C26: 1.59 | D26: -
A27: IV | B27: Finansijski pokazatelji
A28: 1. | B28: Odnos rashoda i prosječne neto imovine investicijskog fonda | C28: =+'Prilog 4'!C27/'Prilog 4'!C29 -> 0.016510589 | D28: 0.015246472
A29: 2. | B29: Odnos realizovane dobiti od ulaganja i prosječne neto imovine investicijskog fonda | C29: =('Prilog 5a'!M19)/'Prilog 4'!C29 -> -0.0054003874 | D29: -0.027113685
A30: 3. | B30: Isplaćeni iznos investitorima u toku godine | C30: 0 | D30: 0
A31: 4. | B31: Stopa prinosa na neto imovinu investicijskog fonda | C31: =C18/C14-1 -> -0.03521281 | D31: 0.0049268242
A33: =' Prilog 1'!A38 -> Datum izvještaja: 30.06.2026.g.
A34: Ime i prezime osobe koja je sačinila izvještaj: | C34: Ime i prezime odgovornog lica društva za upravljanje
A36: =' Prilog 1'!A40 -> Elvira Žilić dipl.ecc | C36: Nedim Vilogorac dipl. oec.

Sheet Prilog 7
B2: Naziv fonda : | C2: ZIF "FORTUNA FOND" d.d. | E2: Prilog 7
B3: Registarski broj fonda : | C3: ZJP-031-03
B4: Naziv društva za upravljanje: | C4: LILIUM ASSET MANAGEMENT d.o.o. Sarajevo
B5: Matični broj društva za upravljanje: | C5: ='Prilog 2'!D4 -> 65-01-0233-08
B6: JIB društva za upravljanje: | C6: 4201337670008
B7: JIB investicionog fonda: | C7: 4263012890007
B9: IZVJEŠTAJ O STRUKTURI PRIHODA OD IMOVINE INVESTICIJSKOG FONDA za period 01.01.-30.06.2026.g.
B11: PRIHODI OD DIVIDENDE
B12: Naziv emitenta | C12: Simbol | D12: Broj dionica ili % učešća | E12: Dividenda po dionici | F12: Ukupni prihodi
B13: - | C13: - | D13: - | E13: - | F13: -
B15: PRIHODI OD KAMATE NA DEPOZITE
B16: Naziv banke | C16: Ugovor o oročenju | D16: Iznos oročenja | E16: Kamatna stopa | F16: Dospjeli prihod od kamate
B17: =+'Prilog 2'!B110 -> ASA banka dd Sarajevo | C17: 1341055570143540 | D17: =+'Prilog 2'!G110 -> 2000000 | E17: 0.025 | F17: 20451.53
B18: =+'Prilog 2'!B111 -> Addiko banka dd Sarajevo | C18: 32854157 | D18: =+'Prilog 2'!G111 -> 1500000 | E18: 0.0199 | F18: 14802.33
B19: =+'Prilog 2'!B112 -> Union banka dd Sarajevo | C19: 56/25-KM-OD | D19: =+'Prilog 2'!G112 -> 1500000 | E19: 0.0241 | F19: 17926.42
B21: PRIHODI OD KAMATE OD OBVEZNICA I DRUGIH DUŽNIČKIH INSTRUMENTA
B22: NAZIV EMITENTA | C22: Simbol | D22: Iznos ulaganja | E22: Kamatna stopa | F22: Dospjeli prihod od kamate
B23: - | C23: - | D23: - | E23: - | F23: -
B26: PRIHODI OD NAJMA
B27: Ugovor o najmu | C27: Naziv/ime i prezime najmoprimca | D27: Vrsta nekretnine | E27: Površina u m2 | F27: Cijena najma po m2 | G27: Prihodi od najma
B28: - | C28: - | D28: - | E28: - | F28: - | G28: -
B32: =' Prilog 1'!A38 -> Datum izvještaja: 30.06.2026.g.
B33: Ime i prezime osobe koja je sačinila izvještaj: | F33: Ime i prezime odgovornog lica društva za upravljanje:
B35: =+' Prilog 1'!A40 -> Elvira Žilić dipl.ecc | F35: =+' Prilog 1'!C40 -> Nedim Vilogorac dipl. oec.

Sheet Prilog 8
C1: Naziv fonda : | G1: ZIF "FORTUNA FOND" d.d.
C2: Registarski broj fonda : | G2: ZJP-031-03
C3: Naziv društva za upravljanje: | G3: LILIUM ASSET MANAGEMENT d.o.o. Sarajevo
C4: Matični broj društva za upravljanje: | G4: ='Prilog 2'!D4 -> 65-01-0233-08
C5: JIB društva za upravljanje: | G5: 4201337670008
C6: JIB investicionog fonda: | G6: 4263012890007
B10: IZVJEŠTAJ O UDJELIČARIMA/DIONIČARIMA INVESTICIJSKOG FONDA na dan 30.06.2026.g. | G10: Prilog 8
B12: Redni broj | C12: Kategorija udjeličara/dioničara | D12: Broj udjela/dionica- domaći vlasnici | E12: Broj udjeličara/dioničara- domaći vlasnici | F12: Broj udjela/dionica- inostrani vlasnici | G12: Broj udjeličara/dioničara - inostrani vlasnici | H12: Ukupan broj udjela/dionica | I12: Ukupan broj udjeličara/dioničara
B13: 1 | C13: Kreditne institucije | D13: =707335+23847 -> 731182 | E13: 2 | F13: 0 | G13: 0 | H13: =+F13+D13 -> 731182 | I13: =G13+E13 -> 2
B14: 2 | C14: Osiguravajuća društva | D14: 0 | E14: 0 | F14: 0 | G14: 0 | H14: =+F14+D14 -> 0 | I14: =G14+E14 -> 0
B15: 3 | C15: Investicijski fondovi | D15: 128842 | E15: 2 | F15: 207677 | G15: 1 | H15: =+F15+D15 -> 336519 | I15: =G15+E15 -> 3
B16: 4 | C16: Penzijski fondovi | D16: 0 | E16: 0 | F16: 0 | G16: 0 | H16: =+F16+D16 -> 0 | I16: =G16+E16 -> 0
B17: 5 | C17: Investicijska društva | D17: 0 | E17: 0 | F17: 0 | G17: 0 | H17: =+F17+D17 -> 0 | I17: =G17+E17 -> 0
B18: 6 | C18: Ostale pravne osobe | D18: 8391 | E18: 1 | F18: 248616 | G18: 4 | H18: =+F18+D18 -> 257007 | I18: =G18+E18 -> 5
B19: 7 | C19: Fizičke osobe | D19: =878943-46 -> 878897 | E19: =17955+1 -> 17956 | F19: 32132 | G19: 19 | H19: =+F19+D19 -> 911029 | I19: =G19+E19 -> 17975
H20: =SUM(H13:H19) -> 2235737 | I20: =SUM(I13:I19) -> 17985
B22: IZVJEŠTAJ O PRVIH 10 UDJELIČARA/ DIONIČARA INVESTICIJSKOG FONDA na dan 30.06.2026.g.
B24: Redni broj | C24: Kategorija udjeličara/dioničara | D24: Učešće u % NAV-u INVESTICIJSKOG FONDA
B25: 1 | C25: Raiffeisen BANK d.d. Bosna i Hercegovina | D25: 25.2339
B26: 2 | C26: OIF "MONETA" | D26: 9.289
B27: 3 | C27: UniCredit Bank d.d. Mostar | D27: 7.4928
B28: 4 | C28: GORENJE M.B.H. WIEN | D28: 5.3164
B29: 5 | C29: OMNIA INTERNATIONAL | D29: 4.9761
B30: 6 | C30: ZIF "PROF-PLUS" d.d. Sarajevo | D30: 3.5264
B31: 7 | C31: ZIF "NAPRIJED" d.d. Sarajevo | D31: 2.2364
B32: 8 | C32: HADŽIĆ SUAD | D32: 0.6104
B33: 9 | C33: Mepas nekretnine d.o.o. | D33: 0.4498
B34: 10 | C34: SAPONIA D.D. | D34: 0.3786
B36: =' Prilog 1'!A38 -> Datum izvještaja: 30.06.2026.g.
B37: Ime i prezime osobe koja je sačinila izvještaj: | F37: Ime i prezime odgovornog lica društva za upravljanje:
B39: =+' Prilog 1'!A40 -> Elvira Žilić dipl.ecc | F39: =+' Prilog 1'!C40 -> Nedim Vilogorac dipl. oec.
