Workbook
Name OLE_LINK1: ' Prilog 3a'!#REF!

Sheet  Prilog 1
C1: Prilog 1
A2: OPĆI PODACI O FONDU na dan 30.06.2026. godine
A4: Opis | B4: Sadržaj | C4: Napomena
A5: 1.Informacije o identitetu Fonda
A6: punu i skraćenu firmu, adresu sjedišta: | B6: Otvoreni investicijski fond sa javnom ponudom OIF LILIUM GLOBAL; Dženetića čikma 8; 71000 Sarajevo
A7: broj telefona i telefaksa: | B7: 033 953 480; 033 953 489
A8: e-mail adresu: | B8: info@lilium-dzu.ba
A9: WEB: | B9: www.lilium-dzu.ba
A10: registarski broj Fonda u registru kod Komisije: | B10: JP-D-032-05
A11: ime i prezime direktora Fonda;
A12: ime i prezime predsjednika i članova nadzornog odbora Fonda;
A13: mandatni period članova Nadzornog odbora Fonda
A14: ime i prezime članova odbora za reviziju;
A15: mandatni period članova Odbora za reviziju Fonda
A16: firmu i sjedište ovlaštenog revizora; | B16: ZUKO d.o.o, Džemala Bijedića 185/10 sprat
A17: godine za koje je ovlašteni revizor vršio reviziju finansijskih izvještaja Fonda: | B17: 2020., 2021., 2022., 2023. i 2024., 2025 godina.
A18: firmu i adresu sjedište depozitara Fonda. | B18: ASA Banka d.d. Sarajevo; Trg međunarodnog prijateljstva 25; 71000 Sarajevo
A19: 2. Informacije o Društvu koje upravlja Fondom:
A20: punu i skraćenu firmu, adresu sjedišta: | B20: Društvo za upravljanje investicijskim fondovima LILIUM ASSET MANAGEMENT d.o.o. Sarajevo, Dženetića čikma 8; 71000 Sarajevo
A21: broj telefona i telefaksa: | B21: 033 953 480; 033 953 489
A22: e-mail adresu: | B22: info@lilium-dzu.ba
A23: web: | B23: www.lilium-dzu.ba
A24: broj i datum Rješenja kojim je izdata dozvola za osnivanje Društva | B24: 05/1-19-159/08; 17.04.2008.god
A25: broj i datum Rješenja kojim je izdata dozvola Društvu za upravljanje Fondom: | B25: 05/1-19-233/10; 23.09.2010.godine
A26: imena i prezimena članova uprave Društva: | B26: Nedim Vilogorac, Adnan Mujezinović
A27: mandatni period članova uprave Društva | B27: 24.11.2025.-23.11.2029. godine
A28: imena i prezimena predsjednika i članova Nadzornog odbora Društva; | B28: Azra Babović, predsjednica Aldina Avdić, član Damir Smajić, član
A29: mandatni period Nadzornog odbora Društva za upravljanje | B29: 18.04.2025. godine - 17.04.2029. godine
A30: imena i prezimena članova Odbora za reviziju; | B30: Ljiljana Kamberović, Almir Hodžić, Andrea Zećo
A31: mandatni period Odbora za reviziju Društva za upravljanje | B31: 21.12.2025. godine - 20.12.2029. godine
... A34: firmu i adresu sjedište depozitara Fonda. | B34: ASA Banka d.d. Sarajevo; Trg međunarodnog prijateljstva 25; 71000 Sarajevo
A36: Datum izvještaja: 18.07.2026. godine
A37: Ime i prezime osobe koja je sačinila izvještaj: | B37: Ime i prezime odgovornog lica za upravljanje:
A38: Elvira Žilić | B38: NedimVilogorac, dipl. oec.

Sheet Prilog 2
A1: Naziv fonda : | C1: OIF LILIUM GLOBAL | O1: Prilog 2
A2: Registarski broj fonda : | C2: JP-D-032-05
A3: Naziv društva za upravljanje: | C3: LILIUM ASSET MANAGEMENT d.o.o. Sarajevo
A4: Matični broj društva za upravljanje: | C4: 65-01-0233-08 | J4: =' Prilog 3a'!C32 -> 1710466.7
A5: JIB društva za upravljanje: | C5: 4201337670008
A6: JIB investicionog fonda:
A7: IZVJEŠTAJ O UTVRĐIVANJU VRIJEDNOSTI IMOVINE IZ PORTFOLIJA INVESTICIJSKOG FONDA na dan 30.06.2026. godine
A10: Rb | B10: Naziv emitenta | C10: Oznaka papira | D10: Ukupan broj emitovanih vp/udjela | E10: Broj vp/udjela u vlasništvu Fonda | F10: % vlasništva fonda | G10: Nabavna cijena vp/udjela | H10: Fer cijena vp/udjela | I10: Ukupna vrijednost ulaganja | J10: % od NVI fonda | K10: Način vrednovanja | L10: % prekoračenja u investiranju | M10: Vrijednost prekoračenja | N10: Datum nastanka prekoračenja | O10: Rok za usaglašavanje
A11: 1 | B11: 2 | C11: 3 | D11: 4 | E11: 5 | F11: 6 (5/4*100) | G11: 7 | H11: 8 | I11: 9 (5*8) | J11: 10 | K11: 11 | L11: 12 | M11: 13 | N11: 14 | O11: 15
A12: ULAGANJA U INSTRUMENTE KAPITALA
A13: Ulaganje u dionice domaćih emitenata (osim u dionice investicijskih fondova)
A14: 1. | B14: BAGS-ENERGOTEHNIKA d.d. Vogošća | C14: BAGSR | D14: 1575116 | E14: 35500 | F14: =E14/D14 -> 0.022538023 | G14: 5.160563 | H14: 1.6 | I14: =H14*E14 -> 56800 | J14: =I14/J$4 -> 0.033207311 | K14: PROCJENA
A15: 2. | B15: BOSNA AUTO D.D. SARAJEVO | C15: BOATRK2 | D15: 341296 | E15: 12824 | F15: =E15/D15 -> 0.037574422 | G15: 35.136036 | H15: 0.2 | I15: =H15*E15 -> 2564.8 | J15: =I15/J$4 -> 0.0014994738 | K15: PROCJENA
A16: 3. | B16: BOSNALIJEK D.D. SARAJEVO | C16: BSNLR | D16: 8596256 | E16: 1715 | F16: =E16/D16 -> 0.00019950546 | G16: 27.2 | H16: 27.1518 | I16: =H16*E16 -> 46565.337 | J16: =I16/J$4 -> 0.027223761 | K16: TRŽIŠNA CIJENA
A17: 4. | B17: ČAJAVEC MEGA A.D. | C17: CMEG-R-A | D17: 11104166 | E17: 590000 | F17: =E17/D17 -> 0.053133211 | G17: 0.55222512 | H17: 0.342 | I17: =H17*E17 -> 201780 | J17: =I17/J$4 -> 0.1179678 | K17: PROCJENA | L17: =J17-10% -> 0.017967804 | M17: 30733.33 | N17: 28.03.2025. | O17: Rok za usklađenje je što kraći prema uslovima na tržištu i zaštiti interesa udjeličara
A18: 5. | B18: ENERGONOVA D.D. SARAJEVO | C18: EGNSR | D18: 948601 | E18: 9600 | F18: =E18/D18 -> 0.010120166 | G18: 42.779844 | H18: 9.01 | I18: =H18*E18 -> 86496 | J18: =I18/J$4 -> 0.050568655 | K18: PROCJENA
A19: 6. | B19: JKP JABLANICA DD | C19: JABLRK4 | D19: 56887 | E19: 338 | F19: =E19/D19 -> 0.0059416035 | G19: 231.78683 | H19: 0 | I19: =H19*E19 -> 0 | J19: =I19/J$4 -> 0 | K19: PROCJENA
A20: 7. | B20: MERKUR D.D. SARAJEVO | C20: MRKSR | D20: 779269 | E20: 30380 | F20: =E20/D20 -> 0.038985254 | G20: 7.965175 | H20: 0 | I20: =H20*E20 -> 0 | J20: =I20/J$4 -> 0 | K20: PROCJENA
A21: 8. | B21: METALOTEHNA D.D. TUZLA | C21: MTHNRK2 | D21: 364462 | E21: 36000 | F21: =E21/D21 -> 0.09877573 | G21: 8.1703847 | H21: 0.43 | I21: =H21*E21 -> 15480 | J21: =I21/J$4 -> 0.0090501616 | K21: PROCJENA
A22: 10. | B22: ŠIPAD -ERC DD SARAJEVO | C22: SRCSR | D22: 89405 | E22: 8400 | F22: =E22/D22 -> 0.093954477 | G22: 6 | H22: 6 | I22: =H22*E22 -> 50400 | J22: =I22/J$4 -> 0.029465642 | K22: PROCJENA
A23: 11. | B23: ŠTAMPARIJA FOJNICA DD FOJNICA | C23: STFJR | D23: 531676 | E23: 9893 | F23: =E23/D23 -> 0.018607197 | G23: 4.205806 | H23: 3.66 | I23: =H23*E23 -> 36208.38 | J23: =I23/J$4 -> 0.021168714 | K23: PROCJENA
A24: 12. | B24: TRZ HADŽIĆI D.D. | C24: TRZHR | D24: 583338 | E24: 5163 | F24: =E24/D24 -> 0.0088507863 | G24: 27.645443 | H24: 13.93 | I24: =H24*E24 -> 71920.59 | J24: =I24/J$4 -> 0.042047349 | K24: PROCJENA
A25: 13. | B25: TELEDIGITAL D.D. SARAJEVO | C25: TTRSR | D25: 435741 | E25: 27713 | F25: =E25/D25 -> 0.063599707 | G25: 25.730008 | H25: 0 | I25: =H25*E25 -> 0 | J25: =I25/J$4 -> 0 | K25: PROCJENA
A26: 14. | B26: UNIONINVESTPLASTIKA D.D. | C26: UNPLR | D26: 353242 | E26: 17004 | F26: =E26/D26 -> 0.048136971 | G26: 22.464298 | H26: 16.05 | I26: =H26*E26 -> 272914.2 | J26: =I26/J$4 -> 0.1595554 | K26: PROCJENA | L26: =J26-10% -> 0.059555401 | M26: 101867.53 | N26: 11.04.2025. | O26: Rok za usklađenje je što kraći prema uslovima na tržištu i zaštiti interesa udjeličara
A27: 15. | B27: JKP VODOVOD I KANALIZACIJA DD KONJIC | C27: VKNKRK1 | D27: 641425 | E27: 20000 | F27: =E27/D27 -> 0.031180575 | G27: 3.184356 | H27: 1.4 | I27: =H27*E27 -> 28000 | J27: =I27/J$4 -> 0.016369801 | K27: PROCJENA
A28: 16. | B28: GP ŽGP Sarajevo | C28: ZGPSR | D28: 1737914 | E28: 42500 | F28: =E28/D28 -> 0.024454605 | G28: 2.488534 | H28: 0 | I28: =H28*E28 -> 0 | J28: =I28/J$4 -> 0 | K28: PROCJENA
I29: =SUM(I14:I28) -> 869129.31 | J29: =I29/J$4 -> 0.50812407
A31: 17. | B31: ZIF BIG -Investiciona grupa d.d. Sarajevo | C31: BIGFRK3 | D31: 10658236 | E31: 50897 | F31: =E31/D31 -> 0.0047753681 | G31: 2.149582 | H31: 0.73 | I31: =E31*H31 -> 37154.81 | J31: =I31/J$4 -> 0.021722031 | K31: PROCJENA | L31: 0.013109 | M31: 22421.258 | N31: 04.01.2024. | O31: Rok za usklađenje je što kraći prema uslovima na tržištu i zaštiti interesa udjeličara
A32: 18. | B32: ZIF CROBIH FOND DD MOSTAR | C32: CRBFRK1 | D32: 3053478 | E32: 6250 | F32: =E32/D32 -> 0.0020468463 | G32: 4 | H32: 0.9 | I32: =E32*H32 -> 5625 | J32: =I32/J$4 -> 0.0032885762 | K32: PROCJENA | L32: 0.001985 | M32: 3394.4347 | N32: 04.01.2024. | O32: Rok za usklađenje je što kraći prema uslovima na tržištu i zaštiti interesa udjeličara
A33: 19. | B33: ZIF MI-GROUP DD | C33: MIGFRK2 | D33: 4926930 | E33: 45500 | F33: =E33/D33 -> 0.0092349597 | G33: 2.418633 | H33: 0.73 | I33: =E33*H33 -> 33215 | J33: =I33/J$4 -> 0.019418677 | K33: PROCJENA | L33: 0.011719 | M33: 20043.76 | N33: 04.01.2024. | O33: Rok za usklađenje je što kraći prema uslovima na tržištu i zaštiti interesa udjeličara
A34: 20. | B34: ZIF NAPRIJED | C34: NPRFRK2 | D34: 4076253 | E34: 9716 | F34: =E34/D34 -> 0.0023835616 | G34: 1.48 | H34: 0.81 | I34: =E34*H34 -> 7869.96 | J34: =I34/J$4 -> 0.0046010601 | K34: PROCJENA | L34: 0.002777 | M34: 4749.1672 | N34: 04.01.2024. | O34: Rok za usklađenje je što kraći prema uslovima na tržištu i zaštiti interesa udjeličara
A35: Ukupna ulaganja u dionice domaćih investicijskih fondova | I35: =SUM(I31:I34) -> 83864.77 | J35: =SUM(J31:J34) -> 0.049030344
A36: Ukupna ulaganja u dionice domaćih emitenata
A37: Ulaganje u dionice inostranih emitenata (osim dionica investicijskih fondova)
A40: Ukupno ulaganje u dionice inostranih investicijskih fondova
A41: Ukupna ulaganja u dionice inostranih emitenata
A42: UKUPNA ULAGANJA U INSTRUMENTE KAPITALA
A43: Rb | B43: Naziv emitenta | C43: Oznaka papira | D43: Ukupan broj emitovanih vp/udjela | E43: Broj vp/udjela u vlasništvu Fonda | F43: % vlasništva fonda | G43: Nabavna cijena vp/udjela | H43: Fer cijena vp/udjela | I43: Ukupna vrijednost ulaganja | J43: % od NVI fonda | K43: Način vrednovanja | L43: % prekoračenja u investiranju | M43: Vrijednost prekoračenja | N43: Datum nastanka prekoračenja | O43: Rok za usaglašavanje
A44: 1 | B44: 2 | C44: 3 | D44: 4 | E44: 5 | F44: 6 (5/4*100) | G44: 7 | H44: 8 | I44: 9 (5*8) | J44: 10 | K44: 11 | L44: 12 | M44: 13 | N44: 14 | O44: 15
A45: ULAGANJA U DUŽNIČKE INSTRUMENTE
...

Sheet Prilog 3
A2: Naziv fonda | D2: OIF LILIUM GLOBAL | R2: Prilog 3
A3: Registarski broj fonda | D3: JP-D-032-05
A4: Naziv društva za upravljanje | D4: LILIUM ASSET MANAGEMENT D.O.O. SARAJEVO
A5: Matični broj društva za upravljanje | D5: 65-01-0233-08
A6: JIB društva za upravljanje | D6: 4201337670008
A7: JIB investicijskog fonda
A9: IZVJEŠTAJ O OBRAČUNU VRIJEDNOSTI NETO IMOVINE INVESTICIJSKOG FONDA ZA MJESEC period 01.01. - 30.06.2026. godine
A10: Datum | B10: IMOVINA FONDA | G10: OBAVEZE FONDA | L10: Ukupna neto vrijednost imovine | M10: Iznos umanjenja neto vrijednosti imovine zbog prekoračenja i neusklađenosti ulaganja | N10: Neto vrijednost imovine za obračun naknade za upravljanje | O10: % naknade za upravljanje | P10: Iznos naknade za upravljanje | Q10: Broj dionica/udjela fonda | R10: NVI po dionici/udjelu fonda
B11: Gotovina | C11: Ulaganja | D11: Potraživanja | E11: Ostalo | F11: UKUPNO | G11: Obaveze po osnovu ulaganja fonda | H11: Obaveze po osnovu troškova poslovanja | I11: Obaveze prema DUF-u | J11: Ostale | K11: UKUPNO
A12: 46023 | B12: 153403.24 | C12: 2205563.6 | D12: 1579.58 | E12: 0 | F12: 2360546.4 | G12: 0 | H12: 9071.1 | I12: 4485.09 | J12: 0 | K12: 13556.19 | L12: 2346990.3 | M12: 402967.85 | N12: 1944022.4 | O12: 0.02 | P12: 106.52 | Q12: 2071711.6 | R12: 1.132875
A13: 46024 | B13: 153403.24 | C13: 2205563.6 | D13: 1579.58 | E13: 0 | F13: 2360546.5 | G13: 0 | H13: 9153.47 | I13: 4591.61 | J13: 0 | K13: 13745.08 | L13: 2346801.4 | M13: 403062.31 | N13: 1943739.1 | O13: 0.02 | P13: 106.51 | Q13: 2071711.6 | R13: 1.1327838
A14: 46025 | B14: 153403.24 | C14: 2205563.6 | D14: 1579.58 | E14: 0 | F14: 2360546.5 | G14: 0 | H14: 9235.84 | I14: 4698.12 | J14: 0 | K14: 13933.96 | L14: 2346612.5 | M14: 403156.75 | N14: 1943455.7 | O14: 0.02 | P14: 106.49 | Q14: 2071711.6 | R14: 1.1326926
A15: 46026 | B15: 153403.24 | C15: 2205563.6 | D15: 1579.58 | E15: 0 | F15: 2360546.5 | G15: 0 | H15: 9318.21 | I15: 4804.61 | J15: 0 | K15: 14122.82 | L15: 2346423.6 | M15: 403251.19 | N15: 1943172.4 | O15: 0.02 | P15: 106.48 | Q15: 2071711.6 | R15: 1.1326015
A16: 46027 | B16: 153403.24 | C16: 2205537.5 | D16: 1579.58 | E16: 0 | F16: 2360520.4 | G16: 0 | H16: 9400.58 | I16: 4911.09 | J16: 0 | K16: 14311.67 | L16: 2346208.7 | M16: 403332.57 | N16: 1942876.1 | O16: 0.02 | P16: 106.46 | Q16: 2071711.6 | R16: 1.1324977
A17: 46028 | B17: 153403.24 | C17: 2205540.8 | D17: 1579.58 | E17: 0 | F17: 2360523.6 | G17: 0 | H17: 9482.95 | I17: 5017.55 | J17: 0 | K17: 14500.5 | L17: 2346023.1 | M17: 403425.37 | N17: 1942597.8 | O17: 0.02 | P17: 106.44 | Q17: 2071711.6 | R17: 1.1324082
A18: 46029 | B18: 153403.24 | C18: 2204898.4 | D18: 1579.58 | E18: 0 | F18: 2359881.2 | G18: 0 | H18: 9565.32 | I18: 5123.99 | J18: 0 | K18: 14689.31 | L18: 2345191.9 | M18: 403840.99 | N18: 1941350.9 | O18: 0.02 | P18: 106.38 | Q18: 2071711.6 | R18: 1.1320069
A19: 46030 | B19: 153403.24 | C19: 2203278.9 | D19: 1579.58 | E19: 0 | F19: 2358261.7 | G19: 0 | H19: 9647.69 | I19: 5230.37 | J19: 0 | K19: 14878.06 | L19: 2343383.6 | M19: 404745.15 | N19: 1938638.5 | O19: 0.02 | P19: 106.23 | Q19: 2071711.6 | R19: 1.1311341
A20: 46031 | B20: 153403.24 | C20: 2202473.2 | D20: 1579.58 | E20: 0 | F20: 2357456 | G20: 0 | H20: 9730.06 | I20: 5336.6 | J20: 0 | K20: 15066.66 | L20: 2342389.3 | M20: 404898.07 | N20: 1937491.3 | O20: 0.02 | P20: 106.16 | Q20: 2071711.6 | R20: 1.1306542
A21: 46032 | B21: 153403.24 | C21: 2202403.2 | D21: 1579.58 | E21: 0 | F21: 2357386.1 | G21: 0 | H21: 9812.42 | I21: 5442.76 | J21: 0 | K21: 15255.18 | L21: 2342130.9 | M21: 405027.34 | N21: 1937103.5 | O21: 0.02 | P21: 106.14 | Q21: 2071711.6 | R21: 1.1305294
A22: 46033 | B22: 153403.24 | C22: 2202403.2 | D22: 1579.58 | E22: 0 | F22: 2357386.1 | G22: 0 | H22: 9894.78 | I22: 5548.9 | J22: 0 | K22: 15443.68 | L22: 2341942.4 | M22: 405121.6 | N22: 1936820.8 | O22: 0.02 | P22: 106.13 | Q22: 2071711.6 | R22: 1.1304384
A23: 46034 | B23: 147862.57 | C23: 2202342.4 | D23: 1579.58 | E23: 0 | F23: 2351784.5 | G23: 0 | H23: 8010.42 | I23: 2083.48 | J23: 0 | K23: 10093.9 | L23: 2341690.6 | M23: 407069.68 | N23: 1934620.9 | O23: 0.02 | P23: 106.01 | Q23: 2071711.6 | R23: 1.1303169
... A42: 46053 | B42: 10003.11 | C42: 2166682.3 | D42: 1579.58 | E42: 0 | F42: 2178265 | G42: 0 | H42: 9570.69 | I42: 3850.1 | J42: 0 | K42: 13420.79 | L42: 2164844.2 | M42: 607680.34 | N42: 1557163.9 | O42: 0.02 | P42: 85.32 | Q42: 1921711.6 | R42: 1.1265188
A43: Prosjek | B43: =AVERAGE(B12:B42) -> 132041.26 | C43: =AVERAGE(C12:C42) -> 2195399.5 | D43: =AVERAGE(D12:D42) -> 3633.1929 | E43: =AVERAGE(E12:E42) -> 0 | F43: =AVERAGE(F12:F42) -> 2331074 | G43: =AVERAGE(G12:G42) -> 24.826452 | H43: =AVERAGE(H12:H42) -> 52724.634 | I43: =AVERAGE(I12:I42) -> 3729.6894 | ... R43: =AVERAGE(R12:R42) -> 1.1295325
A44: Ukupno | B44: =SUM(B12:B42) -> 4093279.2 | C44: =SUM(C12:C42) -> 68057386 | D44: =SUM(D12:D42) -> 112628.98 | E44: =SUM(E12:E42) -> 0 | F44: =SUM(F12:F42) -> 72263294 | G44: =SUM(G12:G42) -> 769.62 | H44: =SUM(H12:H42) -> 1634463.6 | I44: =SUM(I12:I42) -> 115620.37 | ... R44: =SUM(R12:R42) -> 35.015506
A45: 46054 | B45: 10003.11 | C45: 2166682.3 | D45: 1579.58 | E45: 0 | F45: 2178265 | G45: 0 | H45: 9659.64 | I45: 3935.42 | J45: 0 | K45: 13595.06 | L45: 2164670 | M45: 607767.49 | N45: 1556902.5 | O45: 0.02 | P45: 85.31 | Q45: 1921711.6 | R45: 1.1264281
A46: 46055 | B46: 10003.11 | C46: 2166635.4 | D46: 1579.58 | E46: 0 | F46: 2178218.1 | G46: 0 | H46: 9747.87 | I46: 4020.73 | J46: 0 | K46: 13768.6 | L46: 2164449.5 | M46: 607830.79 | N46: 1556618.7 | O46: 0.02 | P46: 85.29 | Q46: 1921711.6 | R46: 1.1263134
A47: 46056 | B47: 10003.11 | C47: 2163058.4 | D47: 1579.58 | E47: 0 | F47: 2174641.1 | G47: 0 | H47: 9836.1 | I47: 4106.02 | J47: 0 | K47: 13942.12 | L47: 2160699 | M47: 609690.39 | N47: 1551008.6 | O47: 0.02 | P47: 84.99 | Q47: 1921711.6 | R47: 1.1243617
A48: 46057 | B48: 10003.11 | C48: 2163027.1 | D48: 1579.58 | E48: 0 | F48: 2174609.8 | G48: 0 | H48: 9924.33 | I48: 4191.01 | J48: 0 | K48: 14115.34 | L48: 2160494.5 | M48: 609761.5 | N48: 1550733 | O48: 0.02 | P48: 84.97 | Q48: 1921711.6 | R48: 1.1242553
A49: 46058 | B49: 10003.11 | C49: 2162896 | D49: 1579.58 | E49: 0 | F49: 2174478.7 | G49: 0 | H49: 10012.56 | I49: 4275.98 | J49: 0 | K49: 14288.54 | L49: 2160190.2 | M49: 609824.98 | N49: 1550365.2 | O49: 0.02 | P49: 84.95 | Q49: 1921711.6 | R49: 1.124097
A50: 46059 | B50: 10003.11 | C50: 2162859.5 | D50: 1579.58 | E50: 0 | F50: 2174442.2 | G50: 0 | H50: 10100.78 | I50: 4360.93 | J50: 0 | K50: 14461.71 | L50: 2159980.5 | M50: 609893.33 | N50: 1550087.1 | O50: 0.02 | P50: 84.94 | Q50: 1921711.6 | R50: 1.1239878
A51: 46060 | B51: 10003.11 | C51: 2162859.5 | D51: 1579.58 | E51: 0 | F51: 2174442.2 | G51: 0 | H51: 10189 | I51: 4445.87 | J51: 0 | K51: 14634.87 | L51: 2159807.3 | M51: 609979.91 | N51: 1549827.4 | O51: 0.02 | P51: 84.92 | Q51: 1921711.6 | R51: 1.1238977
A52: 46061 | B52: 10003.11 | C52: 2162859.5 | D52: 1579.58 | E52: 0 | F52: 2174442.2 | G52: 0 | H52: 10277.22 | I52: 4530.79 | J52: 0 | K52: 14808.01 | L52: 2159634.2 | M52: 610066.49 | N52: 1549567.7 | O52: 0.02 | P52: 84.91 | Q52: 1921711.6 | R52: 1.1238076
A53: 46062 | B53: 10003.11 | C53: 2162838.6 | D53: 1579.58 | E53: 0 | F53: 2174421.3 | G53: 0 | H53: 10365.44 | I53: 4615.7 | J53: 0 | K53: 14981.14 | L53: 2159440.2 | M53: 610142.63 | N53: 1549297.5 | O53: 0.02 | P53: 84.89 | Q53: 1921711.6 | R53: 1.1237067
A54: 46063 | B54: 10003.11 | C54: 2162711.5 | D54: 1579.58 | E54: 0 | F54: 2174294.2 | G54: 0 | H54: 10453.66 | I54: 4700.59 | J54: 0 | K54: 15154.25 | L54: 2159140 | M54: 610282.3 | N54: 1548857.7 | O54: 0.02 | P54: 84.87 | Q54: 1921711.6 | R54: 1.1235505
A55: 46064 | B55: 10003.11 | C55: 2162706.3 | D55: 1579.58 | E55: 0 | F55: 2174289 | G55: 0 | H55: 10781.88 | I55: 4785.46 | J55: 0 | K55: 15567.34 | L55: 2158721.7 | M55: 610486.24 | N55: 1548235.4 | O55: 0.02 | P55: 84.83 | Q55: 1921711.6 | R55: 1.1233328
A56: 46065 | B56: 5003.06 | C56: 2162701.1 | D56: 1579.58 | E56: 0 | F56: 2169283.7 | G56: 0 | H56: 8915.55 | I56: 1827.19 | J56: 0 | K56: 10742.74 | L56: 2158541 | M56: 610571.37 | N56: 1547969.6 | O56: 0.02 | P56: 84.82 | Q56: 1921711.6 | R56: 1.1232388
... A72: 46081 | B72: 3503.81 | C72: 2163118.2 | D72: 1579.58 | E72: 0 | F72: 2168201.6 | G72: 0 | H72: 10326.36 | I72: 3121.95 | J72: 0 | K72: 13448.31 | L72: 2154753.3 | M72: 613247.92 | N72: 1541505.4 | O72: 0.02 | P72: 84.47 | Q72: 1920388 | R72: 1.1220406
A73: Prosjek | B73: =AVERAGE(B45:B72) -> 8275.5332 | C73: =AVERAGE(C45:C72) -> 2163310.8 | D73: =AVERAGE(D45:D72) -> 1579.58 | E73: =AVERAGE(E45:E72) -> 0 | F73: =AVERAGE(F45:F72) -> 2173165.9 | G73: =AVERAGE(G45:G72) -> 0 | H73: =AVERAGE(H45:H72) -> 21992.741 | I73: =AVERAGE(I45:I72) -> 3582.3664 | ... R73: =AVERAGE(R45:R72) -> 1.1233898
A74: Ukupno | B74: =SUM(B45:B72) -> 231714.93 | C74: =SUM(C45:C72) -> 60572702 | D74: =SUM(D45:D72) -> 44228.24 | E74: =SUM(E45:E72) -> 0 | F74: =SUM(F45:F72) -> 60848645 | G74: =SUM(G45:G72) -> 0 | H74: =SUM(H45:H72) -> 615796.75 | I74: =SUM(I45:I72) -> 100306.26 | ... R74: =SUM(R45:R72) -> 31.454915
A75: 46082 | B75: 3503.81 | C75: 2163118.2 | D75: 1579.58 | E75: 0 | F75: 2168201.6 | G75: 0 | H75: 10408.53 | I75: 3205.57 | J75: 0 | K75: 13614.1 | L75: 2154587.5 | M75: 613330.82 | N75: 1541256.7 | O75: 0.02 | P75: 84.45 | Q75: 1920388 | R75: 1.1219543
...

Sheet  Prilog 3a
A1: Naziv fonda : OIF LILIUM GLOBAL | D1: Prilog 3a
A2: Registarski broj fonda : JP-D-032-05
A3: Naziv društva za upravljanje: LILIUM ASSET MANAGAMENT d.o.o. Sarajevo
A4: Matični broj društva za upravljanje: 65-01-0233-08
A5: JIB društva za upravljanje: 4201337670008
A6: JIB investicionog fonda:
A8: IZVJEŠTAJ O OBRAČUNU NETO VRIJEDNOSTI IMOVINE INVESTICIJSKOG FONDA PO DIONICI/UDJELU na dan 30.06.2025. godine
A9: Redni broj | B9: Opis | C9: Ukupna vrijednost na dan izvještaja | D9: Učešće u vrijednosti imovine fonda (%)
A10: 1 | B10: 2 | C10: 3 | D10: 4
A11: I | B11: IMOVINA INVESTICIJSKOG FONDA
A12: 1. | B12: Gotovina i gotovinski ekvivalenti | C12: 416811.03 | D12: =C12/C25 -> 0.24248968
A13: 2. | B13: Ulaganje fonda (2.1+2.2.+2.3.+2.4.+2.5.+2.6.+2.7.) | C13: 1300490.9 | D13: =SUM(D14:D20) -> 0.75659137
A14: 2.1. | B14: Ulaganje u instrumente kapitala (dionice osim dionica investicijskih fondova) | C14: 869129.31 | D14: =C14/$C$25 -> 0.50563654
A15: 2.2. | B15: Ulaganja u dužničke instrumente (obveznice) | C15: 0 | D15: =C15/$C$25 -> 0
A16: 2.3. | B16: Ulaganja u druge vrste dužničkih instrumenata | C16: 0 | D16: =C16/$C$25 -> 0
A17: 2.4. | B17: Ulaganja u dionice i udjele investicijskih fondova | C17: 431361.63 | D17: =C17/$C$25 -> 0.25095483
A18: 2.5. | B18: Ostala finansijska imovina | C18: 0 | D18: =C18/$C$25 -> 0
A19: 2.6. | B19: Depoziti i plasmani | C19: 0 | D19: =C19/$C$25 -> 0
A20: 2.7. | B20: Ulaganja u nekretnine | C20: 0 | D20: =C20/$C$25 -> 0
A21: 3. | B21: Potraživanja (3.1.+3.2.+3.3.) | C21: 1579.58 | D21: =SUM(D22:D24) -> 0.00091895803
A22: 3.1. | B22: Potraživanja iz poslovanja | C22: 1579.58 | D22: =C22/$C$25 -> 0.00091895803
A23: 3.2. | B23: Potraživanja od društva za upravljanje | C23: 0 | D23: =C23/$C$25 -> 0
A24: 3.3. | B24: Ostala potraživanja, odgođena porezna imovina i razgraničenja | C24: 0 | D24: =C24/$C$25 -> 0
A25: I=(1+2+3) | B25: UKUPNA IMOVINA INVESTICIJSKOG FONDA | C25: 1718881.5 | D25: =D12+D13+D21 -> 1
A26: II | B26: OBAVEZE INVESTICIJSKOG FONDA
A27: 4. | B27: Obaveze po osnovu ulaganja | C27: 0
A28: 5. | B28: Obaveze po osnovu troškova poslovanja | C28: 5395.01
A29: 6. | B29: Obaveze prema društvu za upravljanje | C29: 3019.84
A30: 7. | B30: Ostale obaveze | C30: 0
A31: II=(4+5+6+7) | B31: UKUPNE OBAVEZE INVESTICIJSKOG FONDA | C31: 8414.85
A32: III=(I-II) | B32: NETO IMOVINA INVESTICIJSKOG FONDA | C32: 1710466.7
A33: IV | B33: BROJ DIONIOCA/UDJELA | C33: 1725709.7
A34: V=(III/IV) | B34: NETO VRIJEDNOST IMOVINE PO DIONICI/UDJELU | C34: 0.99116712
A35: VI | B35: CIJENA DIONICE/UDJELA | C35: 0.99116712
A38: Datum izvještaja: 18.07.2025. godine
A39: Ime i prezime osobe koja je sačinila izvještaj: | C39: Ime i prezime odgovornog lica za upravljanje:
A40: Elvira Žilić | C40: NedimVilogorac, dipl. oec.

Sheet Prilog 3b
A1: Naziv fonda | B1: OIF LILIUM GLOBAL | F1: Prilog 3b
A2: Registarski broj fonda | B2: JP-D-032-05
A3: Naziv društva za upravljanje | B3: LILIUM ASSET MANAGEMENT D.O.O. SARAJEVO
A4: Matični broj društva za upravljanje | B4: 65-01-0233-08
A5: JIB društva za upravljanje | B5: 4201337670008
A6: JIB investicijskog fonda
A8: IZVJEŠTAJ O NVI PO DIONICI/UDJELU I CIJENI DIONICE/UDJELA INVESTICIJSKOG FONDA
A9: za period od 01.01.2026. do 30.06.2026.
A11: Udio / dionica fonda | B11: Tekuća godina | C11: Prethodna godina | D11: Ranije godine
D12: 2024 | E12: 2023 | F12: 2022
A13: Najniža vrijednost | B13: ='Prilog 3'!Q208 -> 1709306.8 | C13: 2712867.1 | D13: 4000253.3 | E13: 5478953.3 | F13: 6890343.4
A14: Najviša vrijednost | B14: ='Prilog 3'!Q209 -> 2346990.3 | C14: 3067277.6 | D14: 4957843.7 | E14: 6042097.5 | F14: 7902251
A15: Najniža cijena | B15: ='Prilog 3'!R208 -> 0.99049501 | C15: 1.1691422 | D15: 1.4381538 | E15: 1.8322682 | F15: 1.8425
A16: Najviša cijena | B16: ='Prilog 3'!R209 -> 1.132875 | C16: 1.2416162 | D16: 1.6579991 | E16: 1.9184352 | F16: 2.1131
A17: Prosječna cijena | B17: ='Prilog 3'!R206 -> 1.0718192 | C17: 1.1984195 | D17: 1.514548 | E17: 1.8855396 | F17: 2.02
A19: Obračun: | E19: Direktor:
A20: Elvira Žilić | E20: Nedim Vilogorac, dipl. oec.

Sheet Prilog 4
B1: Naziv fonda | C1: OIF LILIUM GLOBAL | D1: Prilog 4
B2: Registarski broj fonda | C2: JP-D-032-05
B3: Naziv društva za upravljanje | C3: LILIUM ASSET MANAGEMENT D.O.O. SARAJEVO
B4: Matični broj društva za upravljanje | C4: 65-01-0233-08
B5: JIB društva za upravljanje | C5: 4201337670008
B6: JIB investicijskog fonda
A7: IZVJEŠTAJ O STRUKTURI I VISINI TROŠKOVA INVESTICIJSKOG FONDA za period: 01.01. - 30.06.2025. godine
A9: Red. Br. | B9: Vrsta troška | C9: Iznos (KM) | D9: Udio %
A11: 1 | B11: 2 | C11: 3 | D11: 4
A12: 1 | B12: Naknada društvu za upravljanje (provizija) | C12: 15849.49 | D12: =(C12/C$25) -> 0.46259524
A13: 2 | B13: Naknada Registru vrijednosnih papira u Federaciji BiH | C13: 0 | D13: =(C13/C$25) -> 0
A14: 3 | B14: Naknada depozitaru | C14: 10800 | D14: =(C14/C$25) -> 0.31521699
A15: 4 | B15: Naknada za reviziju | C15: 3481.68 | D15: =(C15/C$25) -> 0.10161895
A16: 5 | B16: Naknada za računovodstvo | C16: 0 | D16: =(C16/C$25) -> 0
A17: 6 | B17: Naknada berzi | C17: 0 | D17: =(C17/C$25) -> 0
A18: 7 | B18: Troškovi kupovine i prodaje ulaganja | C18: 2978.01 | D18: =(C18/C$25) -> 0.086918459
A19: 8 | B19: Troškovi servisiranja dioničara | C19: 240 | D19: =(C19/C$25) -> 0.0070048221
A20: 9 | B20: Naknade i troškovi nadzornog odbora | C20: 0 | D20: =(C20/C$25) -> 0
A21: 10 | B21: Naknade i troškovi direktora fonda | C21: 0 | D21: =(C21/C$25) -> 0
A22: 11 | B22: Naknada Komisiji za vrijednosne papire Federacije BiH | C22: 782.23 | D22: =(C22/C$25) -> 0.022830758
A23: 12 | B23: Rashodi po osnovu poreza | C23: 0 | D23: =(C23/C$25) -> 0
A24: 13 | B24: Ostali troškovi | C24: 130.7 | D24: =(C24/C$25) -> 0.0038147094
A25: 14 | B25: Ukupno troškovi: | C25: 34262.112 | D25: =SUM(D12:D24) -> 0.99999994
A26: 15 | B26: Ukupni troškovi iz člana 65. ili 93. Zakona o investicijskim fondovima | C26: =SUM(C12:C24) -> 34262.11 | D26: =SUM(D13:D25) -> 1.5374046
A27: 16 | B27: Prosječna vrijednost neto imovine fonda za 01.01. - 30.06.2025. period | C27: ='Prilog 3'!L206 -> 1971786.7 | D27: 0
A28: 17 | B28: Udio troškova iz tačke 15. u prosječnoj neto vrijednosti imovine fonda (%) za 01.01 .- 30.06.2025. period | C28: =C26/C27 -> 0.017376174 | D28: 0
A30: Datum izvještaja: 18.07.2025. godine
A31: Ime i prezime osobe koja je sačinila izvještaj: | C31: Ime i prezime odgovornog lica društva za upravljanje:
A32: Elvira Žilić | C32: Nedim Vilogorac

Sheet Prilog 5 
A1: Naziv fonda : | C1: OIF LILIUM GLOBAL | Q1: Prilog 5
A2: Registarski broj fonda : | C2: JP-D-032-05
A3: Naziv društva za upravljanje: | C3: LILIUM ASSET MANAGEMENT D.O.O. SARAJEVO
A4: Matični broj društva za upravljanje: | C4: 65-01-0233-08
A5: JIB društva za upravljanje: | C5: 4201337670008
A6: JIB fonda:
A8: IZVJEŠTAJ O TRANSAKCIJAMA IMOVINOM INVESTICIJSKOG FONDA za period 01.01. - 30.06.2026. godine
A11: R.br. | B11: Naziv emitenta | C11: Simbol | D11: Stanje na početku perioda | H11: Transakcije tokom perioda | N11: Stanje na kraju perioda
H12: Kupovine | K12: Prodaje
D13: % učešća kod emitenta | E13: Jedinična fer vrij. | F13: Ukupna fer vrijednost ulaganja | G13: % učešća u NVI fonda | H13: količina | I13: prosječna cijena | J13: vrijednost | K13: količina | L13: prosječna cijena | M13: vrijednost | N13: % učešća kod emitenta | O13: Jedinična fer vrij. | P13: Ukupna fer vrijednost ulaganja | Q13: % učešća u NVI fonda
A15: 1 | B15: 2 | C15: 3 | D15: 4 | E15: 5 | F15: 6 | G15: 7 | H15: 8 | I15: 9 | J15: 10 | K15: 11 | L15: 12 | M15: 14 | N15: 15 | O15: 16 | P15: 17 | Q15: 18
A16: ULAGANJA U INSTRUMENTE KAPITALA
A17: 1. | B17: ASA Banka d.d. Sarajevo | C17: IKBZRK2 | D17: 4.0478681e-05 | E17: 202.4089 | F17: 25705.93 | G17: 0.010951826 | K17: 127 | L17: 208 | M17: 26416 | N17: 0 | O17: 0 | P17: 0 | Q17: 0
A18: 2. | B18: Bosnalijek d.d.. Sarajevo | C18: BSNLR | D18: 0.00036736924 | E18: 31.6288 | F18: 99883.75 | G18: 0.042554749 | K18: 1443 | L18: =M18/K18 -> 27.825017 | M18: 40151.5 | N18: ='Prilog 2'!F16 -> 0.00019950546 | O18: ='Prilog 2'!H16 -> 27.1518 | P18: ='Prilog 2'!I16 -> 46565.337 | Q18: ='Prilog 2'!J16 -> 0.027223761
A19: 3. | B19: ŠIPAD-KOMERC d.d. Sarajevo | C19: SPKMR | D19: 0.056794406 | E19: 1.2 | F19: 190560 | G19: 0.081186709 | K19: 158800 | L19: 1.2 | M19: 190560 | N19: 0 | O19: 0 | P19: 0 | Q19: 0
A20: 4. | B20: Rudnici boksita Jajce d.d. Jajce | C20: RBKJRK2 | D20: 0.043655841 | E20: 53 | F20: 431102 | G20: 0.18366789 | K20: 8134 | L20: 51.41 | M20: 418168.94 | N20: 0 | O20: 0 | P20: 0 | Q20: 0
F22: =SUM(F17:F20) -> 747251.68 | M22: =SUM(M17:M20) -> 675296.44 | P22: =SUM(P17:P20) -> 46565.337
A34: ULAGANJA U UDJELE INVESTICIJSKIH FONDOVA
A37: ULAGANJA U OSTALE FINANSIJSKE INSTRUMENTE I DERIVATE
A41: R.br. | B41: Stanje na početku perioda | G41: Transakcije tokom perioda | M41: Stanje na kraju perioda
G42: Kupovina | J42: Prodaja
B43: Vrsta nekretnine | C43: Površina m2 | D43: Cijena po m2 | E43: Fer vrijednost | F43: % učešća u NVI fonda | G43: Površina m2 | H43: Cijena po m2 | I43: Fer vrijednost | J43: Površina m2 | K43: Cijena po m2 | L43: Fer vrijednost | M43: Površina m2 | N43: Cijena po m2 | O43: Fer vrijednost | P43: % učešća u NVI fonda
A45: 1 | B45: 2 | C45: 3 | D45: 4 | E45: 5 | F45: 6 | G45: 7 | H45: 8 | I45: 9 | J45: 10 | K45: 11 | L45: 12 | M45: 13 | N45: 14 | O45: 15 | P45: 16
A46: ULAGANJA U NEKRETNINE
A52: R.br. | B52: Stanje na početku perioda | E52: Transakcije tokom perioda | K52: Stanje na kraju perioda
E53: Ulaganja | H53: Dospjeće
B54: Naziv banke | C54: Vrijednost depozita | D54: % učešća u NVI fonda | E54: Naziv banke | F54: Iznos | G54: % učešća u NVI fonda | H54: Naziv banke | I54: Iznos | J54: % učešća u NVI fonda | K54: Naziv banke | L54: Vrijednost depozita | M54: % učešća u NVI fonda
A56: 1 | B56: 2 | C56: 3 | D56: 4 | E56: 5 | F56: 6 | G56: 7 | H56: 8 | I56: 9 | J56: 10 | K56: 11 | L56: 12 | M56: 13
A57: ULAGANJA U DEPOZITE
A61: Datum izvještaja: 18.07.2025. godine | F61: Ime i prezime odgovornog lica društva za upravljanje:
A62: Ime i prezime osobe koja je sačinila izvještaj: Elvira Žilić | F62: Nedim Vilogorac

Sheet Prilog 5a 
I1: Prilog 5a
A2: IZVJEŠTAJ O REALIZIRANIM DOBICIMA (GUBICIMA) OD PRODAJE IMOVINE INVESTICIJSKOG FONDA za period 01.01.-30.06.2025. godine
A3: Datum prodaje | B3: Vrsta ulaganja | C3: Simbol ili oznaka | D3: Naziv emitenta | E3: Oznaka kategorijefinancijske imovine i obveza prema MSFI 9* | F3: Količina ili nominalna vrijednost | G3: Knjigovodstvena ili fer vrijednost | H3: Prodajna vrijednost | I3: Realizirani dobitak/gubitak
A5: 26.01.2026. | B5: Prenosivi vlasnički vrijednosni papiri | C5: IKBZRK2 | D5: ASA Banka d.d. Sarajevo | F5: 127 | G5: 25795.02 | H5: 26416 | I5: =H5-G5 -> 620.98
A6: 26.01.2026. | B6: Prenosivi vlasnički vrijednosni papiri | C6: BSNLR | D6: Bosnalijek d.d.. Sarajevo | F6: 190 | G6: 5698.65 | H6: 5415 | I6: =H6-G6 -> -283.65
A7: 11.03.2026. | B7: Prenosivi vlasnički vrijednosni papiri | C7: BSNLR | D7: Bosnalijek d.d.. Sarajevo | F7: 375 | G7: 10538.48 | H7: 10987.5 | I7: =H7-G7 -> 449.02
A8: 31.03.2026. | B8: Prenosivi vlasnički vrijednosni papiri | C8: SPKMR | D8: ŠIPAD-KOMERC d.d. Sarajevo | F8: 158800 | G8: 190560 | H8: 190560 | I8: =H8-G8 -> 0
A9: 13.04.2026. | B9: Prenosivi vlasnički vrijednosni papiri | C9: BSNLR | D9: Bosnalijek d.d.. Sarajevo | F9: 78 | G9: 2186.13 | H9: 2145 | I9: =H9-G9 -> -41.13
A10: 15.04.2026. | B10: Prenosivi vlasnički vrijednosni papiri | C10: BSNLR | D10: Bosnalijek d.d.. Sarajevo | F10: 800 | G10: 22393.92 | H10: 21604 | I10: =H10-G10 -> -789.92
A11: 26.5.2026. | B11: Prenosivi vlasnički vrijednosni papiri | C11: RBKJRK2 | D11: Rudnici boksita Jajce d.d. Jajce | F11: 8134 | G11: 418168.94 | H11: 418168.94 | I11: =H11-G11 -> 0
A14: Datum izvještaja: 18.07.2025. godine | G14: Ime i prezime odgovornog lica društva za upravljanje:
A15: Ime i prezime osobe koja je sačinila izvještaj: Elvira Žilić | G15: Nedim Vilogorac
E17: =G6+G7+G9+G10 -> 40817.18
A18: pri čemu Vrsta ulaganja može biti:
A19: 1 Prenosivi vlasnički vrijednosni papiri
A20: 2 Prenosivi dužnički vrijednosni papiri
A21: 3 Instrumenti tržišta novca
A22: 4 Udjeli/dionice investicijskih fondova
A23: 5 Depoziti
A24: 6 Nekretnine
A25: 7 Finansijski derivati
A26: 8 Ostala ulaganja
A27: 9 Poslovni udjeli
A28: *Oznaka kategorije financijske imovine prema MSFI 9
A29: 1 Finansijska imovina i financijske obaveze po fer vrijednosti kroz bilans uspjeha
... A31: 3 Finansijska imovina i obaveze po amortizovanom trošku

Sheet Prilog 5b
G1: Prilog 5b
A3: IZVJEŠTAJ O NEREALIZIRANIM DOBICIMA (GUBICIMA) I UMANJENJU VRIJEDNOSTI IMOVINE INVESTICIJSKOG FONDA za period 01.01. - 30.06.2025. godine
A4: Vrsta ulaganja | B4: Simbol ili oznaka | C4: Naziv emitenta ili druge ugovorne strane | D4: Oznaka kategorije imovine i obaveza prema MSFI 9* | E4: Trošak nabave ili početna vrijednost izvještajnog perioda | F4: Knjigovodstvena ili fer vrijednost | G4: Nerealizirani dobitak ili gubitak priznat kroz bilans uspjeha – usklađivanje fer vrijednosti
A6: Prenosivi vlasnički vrijednosni papiri | B6: BAGSR | C6: BAGS-ENERGOTEHNIKA d.d. Vogošća | E6: 106500 | F6: ='Prilog 2'!I14 -> 56800 | G6: =F6-E6 -> -49700
A7: Prenosivi vlasnički vrijednosni papiri | B7: BOATRK2 | C7: BOSNA AUTO D.D. SARAJEVO | E7: 2564.8 | F7: ='Prilog 2'!I15 -> 2564.8 | G7: =F7-E7 -> 0
A8: Prenosivi vlasnički vrijednosni papiri | B8: BSNLR | C8: BOSNALIJEK D.D. SARAJEVO | E8: 54243.39 | F8: ='Prilog 2'!I16 -> 46565.337 | G8: =F8-E8 -> -7678.053
A9: Prenosivi vlasnički vrijednosni papiri | B9: CMEG-R-A | C9: ČAJEVAC MEGA A.D. | E9: 212400 | F9: ='Prilog 2'!I17 -> 201780 | G9: =F9-E9 -> -10620
A10: Prenosivi vlasnički vrijednosni papiri | B10: EGNSR | C10: ENERGONOVA D.D. SARAJEVO | E10: 114912 | F10: ='Prilog 2'!I18 -> 86496 | G10: =F10-E10 -> -28416
A11: Prenosivi vlasnički vrijednosni papiri | B11: JABLRK4 | C11: JKP JABLANICA DD | E11: 0 | F11: ='Prilog 2'!I19 -> 0 | G11: =F11-E11 -> 0
A12: Prenosivi vlasnički vrijednosni papiri | B12: MRKSR | C12: MERKUR D.D. SARAJEVO | E12: 0 | F12: ='Prilog 2'!I20 -> 0 | G12: =F12-E12 -> 0
A13: Prenosivi vlasnički vrijednosni papiri | B13: MTHNRK2 | C13: METALOTEHNA D.D. TUZLA | E13: 46440 | F13: ='Prilog 2'!I21 -> 15480 | G13: =F13-E13 -> -30960
A14: Prenosivi vlasnički vrijednosni papiri | B14: RBKJR2 | C14: RUDNICI BOKSITA JAJCE DD JAJCE | E14: 431102 | F14: 418168.94 | G14: =F14-E14 -> -12933.06
A15: Prenosivi vlasnički vrijednosni papiri | B15: SRCSR | C15: ŠIPAD -ERC DD SARAJEVO | E15: 67200 | F15: ='Prilog 2'!I22 -> 50400 | G15: =F15-E15 -> -16800
A16: Prenosivi vlasnički vrijednosni papiri | B16: STFJR | C16: ŠTAMPARIJA FOJNICA DD FOJNICA | E16: 40957.02 | F16: ='Prilog 2'!I23 -> 36208.38 | G16: =F16-E16 -> -4748.64
A17: Prenosivi vlasnički vrijednosni papiri | B17: TRZHR | C17: TRZ HADŽIĆI D.D. | E17: 89681.31 | F17: ='Prilog 2'!I24 -> 71920.59 | G17: =F17-E17 -> -17760.72
A18: Prenosivi vlasnički vrijednosni papiri | B18: TTRSR | C18: TELEDIGITAL D.D. SARAJEVO | E18: 0 | F18: ='Prilog 2'!I25 -> 0 | G18: =F18-E18 -> 0
A19: Prenosivi vlasnički vrijednosni papiri | B19: UNPLR | C19: UNIONINVESTPLASTIKA D.D. | E19: 287367.6 | F19: ='Prilog 2'!I26 -> 272914.2 | G19: =F19-E19 -> -14453.4
A20: Prenosivi vlasnički vrijednosni papiri | B20: VKNKRK1 | C20: JKP VODOVOD I KANALIZACIJA DD KONJIC | E20: 35200 | F20: ='Prilog 2'!I27 -> 28000 | G20: =F20-E20 -> -7200
A21: Prenosivi vlasnički vrijednosni papiri | B21: ZGPSR | C21: GP ŽGP Sarajevo | E21: 0 | F21: ='Prilog 2'!I28 -> 0 | G21: =F21-E21 -> 0
A22: Udjeli/dionice investicijskih fondova | B22: BIGFRK3 | C22: ZIF BIG -Investiciona grupa d.d. Sarajevo | E22: 38681.72 | F22: ='Prilog 2'!I31 -> 37154.81 | G22: =F22-E22 -> -1526.91
A23: Udjeli/dionice investicijskih fondova | B23: CRBFRK | C23: ZIF CROBIH FOND DD MOSTAR | E23: 21687.5 | F23: ='Prilog 2'!I32 -> 5625 | G23: =F23-E23 -> -16062.5
A24: Udjeli/dionice investicijskih fondova | B24: MIGFRK2 | C24: ZIF MI-GROUP DD | E24: 38675 | F24: ='Prilog 2'!I33 -> 33215 | G24: =F24-E24 -> -5460
A25: Udjeli/dionice investicijskih fondova | B25: NPRFRK2 | C25: ZIF NAPRIJED | E25: 7869.96 | F25: ='Prilog 2'!I34 -> 7869.96 | G25: =F25-E25 -> 0
A26: Udjeli/dionice investicijskih fondova | B26: HBHEQ-OIF | C26: SME BH EQUITY | E26: 348175.04 | F26: ='Prilog 2'!I69 -> 347496.86 | G26: =F26-E26 -> -678.17794
A28: Neto kursne razlike | B28: Amortizacija diskonta ili premije imovine s fiksnim dospijećem | C28: Umanjenje vrijednosti za očekivane kreditne gubitke | D28: Nerealizirani dobitak ili gubitak priznat kroz ostali ukupni rezultat (u izvještajnom periodu) | E28: Revalorizacijske rezerve računovodstva zaštite
A33: Datum izvještaja: 18.07.2025. godine | D33: Ime i prezime odgovornog lica društva za upravljanje:
A34: Ime i prezime osobe koja je sačinila izvještaj: Elvira Žilić | D34: Nedim Vilogorac
A37: pri čemu Vrsta ulaganja može biti:
A38: 1 Prenosivi vlasnički vrijednosni papiri
A39: 2 Prenosivi dužnički vrijednosni papiri
A40: 3 Instrumenti tržišta novca
A41: 4 Udjeli/dionice investicijskih fondova
A42: 5 Depoziti
A43: 6 Nekretnine
A44: 7 Finansijski derivati
A45: 8 Ostala ulaganja
A46: 9 Poslovni udjeli
A47: *Oznaka kategorije financijske imovine prema MSFI 9
A48: 1 Finansijska imovina i financijske obaveze po fer vrijednosti kroz bilans uspjeha
... A50: 3 Finansijska imovina i obaveze po amortizovanom trošku

Sheet Prilog 5c
A1: Naziv fonda : OIF ILIRIKA GLOBAL | E1: Prilog 5c
A2: Registarski broj fonda : JP-D-032-05
A3: Naziv društva za upravljanje: LILIUM ASSET MANAGEMENT D.O.O. SARAJEVO
A4: Matični broj društva za upravljanje: 65-01-0233-08
A5: JIB društva za upravljanje: 4201337670008
A6: JIB investicionog fonda:
A8: IZVJEŠTAJ O VRIJEDNOSTI TRANSAKCIJA FONDA OBAVLJENIM PUTEM POJEDINAČNOG PROFESIONALNOG POSREDNIKA I IZNOSU OBRAČUNATE NAKNADE za period 01.01. - 30.06.2026. godine
A13: Naziv berzanskog posrednika | B13: Vrijednost transakcija | C13: Učešće u ukupnoj vrijednosti transakcija | D13: Iznos provizije | E13: Učešće provizije u vrijednosti transkcija
A14: 1 | B14: 2 | C14: 3 | D14: 4 | E14: 5=4/3
A15: ASA Banka d.d. Sarajevo | B15: 257127.5 | C15: =(B15/B21) -> 1 | D15: 2110.82 | E15: =+D15/B15 -> 0.0082092347
A21: Ukupno | B21: =SUM(B15:B20) -> 257127.5 | C21: =SUM(C15:C16) -> 1 | D21: =SUM(D15:D20) -> 2110.82 | E21: =E15 -> 0.0082092347
A24: Obračun: | D24: Direktor:
A25: Elvira Žilić | D25: Nedim Vilogorac, dipl. oec.

Sheet Prilog 6
A1: Naziv fonda | C1: OIF LILIUM GLOBAL
A2: Registarski broj fonda | C2: JP-D-032-05
A3: Naziv društva za upravljanje | C3: LILIUM ASSET MANAGEMENT D.O.O. SARAJEVO
A4: Matični broj društva za upravljanje | C4: 65-01-0233-08
A5: JIB društva za upravljanje | C5: 4201337670008
A6: JIB investicijskog fonda
C8: Prilog 6
A9: IZVJEŠTAJ O FINANSIJSKIM POKAZATELJIMA INVESTICIJSKOG FONDA
A10: za period od 01.01.2026. do 30.06.2026. godine
A12: RBr | B12: Pozicija imovine | D12: Tekuća godina | F12: Prethodna godina
A13: I | B13: Vrijednost neto imovine fonda po udjelu / dionici na početku perioda
A14: 1. | B14: Neto imovina fonda na početku perioda | D14: ='Prilog 3'!L12 -> 2346990.3 | F14: 3064289.9
A15: 2. | B15: Broj udjela dionica na početku perioda | D15: ='Prilog 3'!Q12 -> 2071711.6 | F15: 2470391.1
A16: 3. | B16: Vrijednost udjela / dionice na početku perioda | D16: ='Prilog 3'!R12 -> 1.132875 | F16: 1.2404
A17: II | B17: Vrijednost neto imovine fonda po udjelu / dionici na kraju perioda
A18: 1. | B18: Neto imovina fonda na kraju perioda | D18: ='Prilog 3'!L202 -> 1710466.7 | F18: 2713527.1
A19: 2. | B19: Broj udjela dionica na kraju perioda | D19: ='Prilog 3'!Q202 -> 1725709.7 | F19: 2320391.1
A20: 3. | B20: Vrijednost udjela / dionice na kraju perioda | D20: ='Prilog 3'!R202 -> 0.99116712 | F20: 1.1694
A21: III | B21: Finansijski pokazatelji
A22: 1. | B22: Odnos rashoda i prosječne neto imovine | D22: ='Prilog 3'!K204/'Prilog 3'!L204 -> 0.0038061286 | F22: 0.004242
A23: 2. | B23: Odnos realizovane dobiti od ulaganja i prosječne neto imovine | D23: 0 | F23: 0
A24: 3. | B24: Isplaćeni iznos investitorima u toku godine | D24: 0 | F24: 0
A25: 4. | B25: Stopa prinosa na neto imovinu fonda | D25: =-(D18/D14)% -> -0.0072879156 | F25: -0.0088553211
A27: Obračun: | E27: Direktor:
A28: Elvira Žilić | E28: Nedim Vilogorac, dipl. oec.

Sheet Prilog 7
A1: Naziv fonda : OIF LILIUM GLOBAL | E1: Prilog 7
A2: Registarski broj fonda : 'JP-D-032-05
A3: Naziv društva za upravljanje: LILIUM ASSET MANAGEMENT D.O.O. SARAJEVO
A4: Matični broj društva za upravljanje: '65-01-0233-08
A5: JIB društva za upravljanje: 4201337670008
A6: JIB investicionog fonda:
A9: IZVJEŠTAJ O PRIHODIMA FONDA PO OSNOVU DIVIDENDE ZA 01.01. - 30.06.2026. godine
A12: Naziv emitenta | B12: Simbol | C12: Broj dionica ili % učešća | D12: Dividenda po dionici | E12: Ukupni prihodi
A14: BOSNALIJEK D.D. SARAJEVO | B14: BSNLR | C14: 2593 | D14: 1.1 | E14: 2852.3
A19: Ukupno: | D19: =SUM(D14:D17) -> 1.1 | E19: =SUM(E14:E18) -> 2852.3
A21: Obračun: | D21: Direktor:
A22: Elvira Žilić | D22: Nedim Vilogorac, dipl. oec.

Sheet Prilog 8
A2: IZVJEŠTAJ O UDJELIČARIMA/DIONIČARIMA INVESTICIJSKOG FONDA na dan 30.06.2026. godine | H2: Prilog 8
A4: Redni broj | B4: Kategorija udjeličara/dioničara | C4: Broj udjela/dionica- domaći vlasnici | D4: Broj udjeličara/dioničara- domaći vlasnici | E4: Broj udjela/dionica- inostrani vlasnici | F4: Broj udjeličara/dioničara - inostrani vlasnici | G4: Ukupan broj udjela/dionica | H4: Ukupan broj udjeličara/dioničara
A5: 1 | B5: Kreditne institucije | C5: 0 | D5: 0 | E5: 0 | F5: 0 | G5: 0 | H5: 0
A6: 2 | B6: Osiguravajuća društva | C6: 20797.564 | D6: 1 | E6: 0 | F6: 0 | G6: 20797.564 | H6: 1
A7: 3 | B7: Investicijski fondovi | C7: 1454563.2 | D7: 5 | E7: 41084.904 | F7: 1 | G7: 1495648.1 | H7: 6
A8: 4 | B8: Penzijski fondovi | C8: 0 | D8: 0 | E8: 0 | F8: 0 | G8: 0 | H8: 0
A9: 5 | B9: Investicijska društva | C9: 0 | D9: 0 | E9: 0 | F9: 0 | G9: 0 | H9: 0
A10: 6 | B10: Ostale pravne osobe | C10: 164157.21 | D10: 18 | E10: 4742.888 | F10: 1 | G10: 168900.1 | H10: 19
A11: 7 | B11: Fizičke osobe | C11: 40363.901 | D11: 173 | E11: 0 | F11: 0 | G11: 40363.901 | H11: 173
G12: =SUM(G5:G11) -> 1725709.7
A14: IZVJEŠTAJ O PRVIH 10 UDJELIČARA/ DIONIČARA INVESTICIJSKOG FONDA na dan 30.06.2026. godine
A16: Redni broj | B16: Kategorija udjeličara/dioničara | D16: Učešće u % NAV-u INVESTICIJSKOG FONDA
A17: 1 | B17: ZIF HERBOS FOND d.d. Mostar | D17: 0.243361
A18: 2 | B18: ZIF BIG - Investiciona grupa d.d Sarajevo | D18: 0.220328
A19: 3 | B19: ZIF BONUS D.D. SARAJEVO | D19: 0.219475
A20: 4 | B20: ZIF PROF-PLUS d.d. Sarajevo | D20: 0.115295
A21: 5 | B21: ZIF CRO BIH FOND d.d. Mostar | D21: 0.085136
A22: 6 | B22: VIB a.d. Banja Luka - Društvo za savjetovanje u poslovanju | D22: 0.04442
A23: 7 | B23: OIF MONETA a.d. Podgorica | D23: 0.023808
A24: 8 | B24: TRIGLAV OSIGURANJE d.d. | D24: 0.012052
A25: 9 | B25: SULIĆ ZUHDIJA | D25: 0.004498
A26: 10 | B26: NAPOLEON-ROTT d.o.o. Sarajevo | D26: 0.00281
A28: Datum izvještaja: 18.07.2025. godine
A29: Ime i prezime osobe koja je sačinila izvještaj: | E29: Ime i prezime odgovornog lica za upravljanje:
A30: Elvira Žilić | E30: NedimVilogorac, dipl. oec.
